BEGIN:VCALENDAR
VERSION:2.0
PRODID:-//Campbell River Genealogy Society - ECPv6.15.20//NONSGML v1.0//EN
CALSCALE:GREGORIAN
METHOD:PUBLISH
X-ORIGINAL-URL:https://www.crgenealogysociety.ca
X-WR-CALDESC:Events for Campbell River Genealogy Society
REFRESH-INTERVAL;VALUE=DURATION:PT1H
X-Robots-Tag:noindex
X-PUBLISHED-TTL:PT1H
BEGIN:VTIMEZONE
TZID:America/Vancouver
BEGIN:DAYLIGHT
TZOFFSETFROM:-0800
TZOFFSETTO:-0700
TZNAME:PDT
DTSTART:20250309T100000
END:DAYLIGHT
BEGIN:STANDARD
TZOFFSETFROM:-0700
TZOFFSETTO:-0800
TZNAME:PST
DTSTART:20251102T090000
END:STANDARD
BEGIN:DAYLIGHT
TZOFFSETFROM:-0800
TZOFFSETTO:-0700
TZNAME:PDT
DTSTART:20260308T100000
END:DAYLIGHT
BEGIN:STANDARD
TZOFFSETFROM:-0700
TZOFFSETTO:-0800
TZNAME:PST
DTSTART:20261101T090000
END:STANDARD
BEGIN:DAYLIGHT
TZOFFSETFROM:-0800
TZOFFSETTO:-0700
TZNAME:PDT
DTSTART:20270314T100000
END:DAYLIGHT
BEGIN:STANDARD
TZOFFSETFROM:-0700
TZOFFSETTO:-0800
TZNAME:PST
DTSTART:20271107T090000
END:STANDARD
END:VTIMEZONE
BEGIN:VEVENT
DTSTART;TZID=America/Vancouver:20260602T100000
DTEND;TZID=America/Vancouver:20260602T150000
DTSTAMP:20260423T184856
CREATED:20260309T162249Z
LAST-MODIFIED:20260309T162249Z
UID:5623-1780394400-1780412400@www.crgenealogysociety.ca
SUMMARY:Library Open
DESCRIPTION:
URL:https://www.crgenealogysociety.ca/events/library-open-123/
END:VEVENT
BEGIN:VEVENT
DTSTART;TZID=America/Vancouver:20260603T100000
DTEND;TZID=America/Vancouver:20260603T150000
DTSTAMP:20260423T184856
CREATED:20260309T162310Z
LAST-MODIFIED:20260309T162310Z
UID:5625-1780480800-1780498800@www.crgenealogysociety.ca
SUMMARY:Library Open
DESCRIPTION:
URL:https://www.crgenealogysociety.ca/events/library-open-124/
END:VEVENT
BEGIN:VEVENT
DTSTART;TZID=America/Vancouver:20260604T183000
DTEND;TZID=America/Vancouver:20260604T210000
DTSTAMP:20260423T184856
CREATED:20260309T162008Z
LAST-MODIFIED:20260309T162008Z
UID:5613-1780597800-1780606800@www.crgenealogysociety.ca
SUMMARY:**Regular Meeting** 7-9 PM Details Click Here
DESCRIPTION:This will be a Hybrid Event. Doors open at 6:30 PM – Meeting at 7 \nAt the Maritime Heritage Centre by the Pier \n                  Education Feature: British Home Children \nThe Quest Reveal\nSee if the Team could solve this challenge\nThe public is welcome! \nNon-members can receive your personal invite click Here \nThe Doors will be open at 6:30 for Social Time before the meeting.
URL:https://www.crgenealogysociety.ca/events/regular-meeting-7-9-pm-details-click-here-19/
LOCATION:Maritime Heritage Centre\, 621 Island Hwy\, Campbell River\, British Columbia\, Canada
ORGANIZER;CN="Campbell River Genealogy Society":MAILTO:crgenealogy@shaw.ca
END:VEVENT
BEGIN:VEVENT
DTSTART;TZID=America/Vancouver:20260609T100000
DTEND;TZID=America/Vancouver:20260609T150000
DTSTAMP:20260423T184856
CREATED:20260309T162327Z
LAST-MODIFIED:20260309T162327Z
UID:5627-1780999200-1781017200@www.crgenealogysociety.ca
SUMMARY:Library Open
DESCRIPTION:
URL:https://www.crgenealogysociety.ca/events/library-open-125/
END:VEVENT
BEGIN:VEVENT
DTSTART;TZID=America/Vancouver:20260610T100000
DTEND;TZID=America/Vancouver:20260610T150000
DTSTAMP:20260423T184856
CREATED:20260309T162048Z
LAST-MODIFIED:20260309T162048Z
UID:5615-1781085600-1781103600@www.crgenealogysociety.ca
SUMMARY:Library Open + G&T
DESCRIPTION:The Library is open from 10 AM to 3 PM. \nJoin us in the afternoon for Genealogy and Tea (or coffee) and treats in the CRGS Library. \nThis is a monthly casual drop-in social event held on the second Wednesday of each month. Come to connect with other genealogists\, browse the library collection\, and do a little research on the side if the spirit moves you.
URL:https://www.crgenealogysociety.ca/events/library-open-gt-15/
LOCATION:Maritime Heritage Centre\, 621 Island Hwy\, Campbell River\, British Columbia\, Canada
END:VEVENT
BEGIN:VEVENT
DTSTART;TZID=America/Vancouver:20260616T100000
DTEND;TZID=America/Vancouver:20260616T150000
DTSTAMP:20260423T184856
CREATED:20260309T162345Z
LAST-MODIFIED:20260309T162345Z
UID:5629-1781604000-1781622000@www.crgenealogysociety.ca
SUMMARY:Library Open
DESCRIPTION:
URL:https://www.crgenealogysociety.ca/events/library-open-126/
END:VEVENT
BEGIN:VEVENT
DTSTART;TZID=America/Vancouver:20260617T100000
DTEND;TZID=America/Vancouver:20260617T150000
DTSTAMP:20260423T184856
CREATED:20260309T162400Z
LAST-MODIFIED:20260309T162400Z
UID:5631-1781690400-1781708400@www.crgenealogysociety.ca
SUMMARY:Library Open
DESCRIPTION:
URL:https://www.crgenealogysociety.ca/events/library-open-127/
END:VEVENT
BEGIN:VEVENT
DTSTART;TZID=America/Vancouver:20260623T100000
DTEND;TZID=America/Vancouver:20260623T150000
DTSTAMP:20260423T184856
CREATED:20260309T162429Z
LAST-MODIFIED:20260309T162429Z
UID:5633-1782208800-1782226800@www.crgenealogysociety.ca
SUMMARY:Library Open
DESCRIPTION:
URL:https://www.crgenealogysociety.ca/events/library-open-128/
END:VEVENT
BEGIN:VEVENT
DTSTART;TZID=America/Vancouver:20260624T100000
DTEND;TZID=America/Vancouver:20260624T150000
DTSTAMP:20260423T184856
CREATED:20260309T162448Z
LAST-MODIFIED:20260309T162448Z
UID:5635-1782295200-1782313200@www.crgenealogysociety.ca
SUMMARY:Library Open
DESCRIPTION:
URL:https://www.crgenealogysociety.ca/events/library-open-129/
END:VEVENT
BEGIN:VEVENT
DTSTART;TZID=America/Vancouver:20260630T100000
DTEND;TZID=America/Vancouver:20260630T150000
DTSTAMP:20260423T184856
CREATED:20260309T162517Z
LAST-MODIFIED:20260309T162517Z
UID:5637-1782813600-1782831600@www.crgenealogysociety.ca
SUMMARY:Library Open
DESCRIPTION:
URL:https://www.crgenealogysociety.ca/events/library-open-130/
END:VEVENT
END:VCALENDAR