BEGIN:VCALENDAR
VERSION:2.0
PRODID:-//Campbell River Genealogy Society - ECPv6.15.20//NONSGML v1.0//EN
CALSCALE:GREGORIAN
METHOD:PUBLISH
X-ORIGINAL-URL:https://www.crgenealogysociety.ca
X-WR-CALDESC:Events for Campbell River Genealogy Society
REFRESH-INTERVAL;VALUE=DURATION:PT1H
X-Robots-Tag:noindex
X-PUBLISHED-TTL:PT1H
BEGIN:VTIMEZONE
TZID:America/Vancouver
BEGIN:DAYLIGHT
TZOFFSETFROM:-0800
TZOFFSETTO:-0700
TZNAME:PDT
DTSTART:20250309T100000
END:DAYLIGHT
BEGIN:STANDARD
TZOFFSETFROM:-0700
TZOFFSETTO:-0800
TZNAME:PST
DTSTART:20251102T090000
END:STANDARD
BEGIN:DAYLIGHT
TZOFFSETFROM:-0800
TZOFFSETTO:-0700
TZNAME:PDT
DTSTART:20260308T100000
END:DAYLIGHT
BEGIN:STANDARD
TZOFFSETFROM:-0700
TZOFFSETTO:-0800
TZNAME:PST
DTSTART:20261101T090000
END:STANDARD
BEGIN:DAYLIGHT
TZOFFSETFROM:-0800
TZOFFSETTO:-0700
TZNAME:PDT
DTSTART:20270314T100000
END:DAYLIGHT
BEGIN:STANDARD
TZOFFSETFROM:-0700
TZOFFSETTO:-0800
TZNAME:PST
DTSTART:20271107T090000
END:STANDARD
END:VTIMEZONE
BEGIN:VEVENT
DTSTART;TZID=America/Vancouver:20260505T100000
DTEND;TZID=America/Vancouver:20260505T150000
DTSTAMP:20260423T172354
CREATED:20260309T161027Z
LAST-MODIFIED:20260309T161027Z
UID:5598-1777975200-1777993200@www.crgenealogysociety.ca
SUMMARY:Library Open
DESCRIPTION:
URL:https://www.crgenealogysociety.ca/events/library-open-116/
END:VEVENT
BEGIN:VEVENT
DTSTART;TZID=America/Vancouver:20260506T100000
DTEND;TZID=America/Vancouver:20260506T150000
DTSTAMP:20260423T172354
CREATED:20260309T161044Z
LAST-MODIFIED:20260309T161044Z
UID:5600-1778061600-1778079600@www.crgenealogysociety.ca
SUMMARY:Library Open
DESCRIPTION:
URL:https://www.crgenealogysociety.ca/events/library-open-117/
END:VEVENT
BEGIN:VEVENT
DTSTART;TZID=America/Vancouver:20260507T183000
DTEND;TZID=America/Vancouver:20260507T210000
DTSTAMP:20260423T172354
CREATED:20260309T161552Z
LAST-MODIFIED:20260309T161552Z
UID:5606-1778178600-1778187600@www.crgenealogysociety.ca
SUMMARY:**Regular Meeting** 7-9 PM Details Click Here
DESCRIPTION:This will be a Hybrid Event. Doors open at 6:30 PM – Meeting at 7 \nAt the Maritime Heritage Centre by the Pier \n                  Education Feature: British Home Children \nGuest speaker Lois Thompson\nPresents\nBHC Research\nThe public is welcome! \nNon-members can receive your personal invite click Here \nThe Doors will be open at 6:30 for Social Time before the meeting.
URL:https://www.crgenealogysociety.ca/events/regular-meeting-7-9-pm-details-click-here-8/
LOCATION:Maritime Heritage Centre\, 621 Island Hwy\, Campbell River\, British Columbia\, Canada
ORGANIZER;CN="Campbell River Genealogy Society":MAILTO:crgenealogy@shaw.ca
END:VEVENT
BEGIN:VEVENT
DTSTART;TZID=America/Vancouver:20260512T100000
DTEND;TZID=America/Vancouver:20260512T150000
DTSTAMP:20260423T172354
CREATED:20260309T161100Z
LAST-MODIFIED:20260309T161100Z
UID:5602-1778580000-1778598000@www.crgenealogysociety.ca
SUMMARY:Library Open
DESCRIPTION:
URL:https://www.crgenealogysociety.ca/events/library-open-118/
END:VEVENT
BEGIN:VEVENT
DTSTART;TZID=America/Vancouver:20260513T100000
DTEND;TZID=America/Vancouver:20260513T150000
DTSTAMP:20260423T172354
CREATED:20260309T155626Z
LAST-MODIFIED:20260309T155626Z
UID:5524-1778666400-1778684400@www.crgenealogysociety.ca
SUMMARY:Library Open + G&T
DESCRIPTION:The Library is open from 10 AM to 3 PM. \nJoin us in the afternoon for Genealogy and Tea (or coffee) and treats in the CRGS Library. \nThis is a monthly casual drop-in social event held on the second Wednesday of each month. Come to connect with other genealogists\, browse the library collection\, and do a little research on the side if the spirit moves you.
URL:https://www.crgenealogysociety.ca/events/library-open-gt-14/
LOCATION:Maritime Heritage Centre\, 621 Island Hwy\, Campbell River\, British Columbia\, Canada
END:VEVENT
BEGIN:VEVENT
DTSTART;TZID=America/Vancouver:20260519T100000
DTEND;TZID=America/Vancouver:20260519T150000
DTSTAMP:20260423T172354
CREATED:20260309T162124Z
LAST-MODIFIED:20260309T162124Z
UID:5617-1779184800-1779202800@www.crgenealogysociety.ca
SUMMARY:Library Open
DESCRIPTION:
URL:https://www.crgenealogysociety.ca/events/library-open-120/
END:VEVENT
BEGIN:VEVENT
DTSTART;TZID=America/Vancouver:20260520T100000
DTEND;TZID=America/Vancouver:20260520T150000
DTSTAMP:20260423T172354
CREATED:20260309T162140Z
LAST-MODIFIED:20260309T162140Z
UID:5619-1779271200-1779289200@www.crgenealogysociety.ca
SUMMARY:Library Open
DESCRIPTION:
URL:https://www.crgenealogysociety.ca/events/library-open-121/
END:VEVENT
BEGIN:VEVENT
DTSTART;TZID=America/Vancouver:20260527T100000
DTEND;TZID=America/Vancouver:20260527T150000
DTSTAMP:20260423T172354
CREATED:20260309T162157Z
LAST-MODIFIED:20260309T162221Z
UID:5621-1779876000-1779894000@www.crgenealogysociety.ca
SUMMARY:Library Open
DESCRIPTION:
URL:https://www.crgenealogysociety.ca/events/library-open-122/
END:VEVENT
BEGIN:VEVENT
DTSTART;TZID=America/Vancouver:20260530T110000
DTEND;TZID=America/Vancouver:20260530T140000
DTSTAMP:20260423T172354
CREATED:20260309T161858Z
LAST-MODIFIED:20260309T161858Z
UID:5611-1780138800-1780149600@www.crgenealogysociety.ca
SUMMARY:Library Open Saturday
DESCRIPTION:
URL:https://www.crgenealogysociety.ca/events/library-open-saturday/
END:VEVENT
END:VCALENDAR