BEGIN:VCALENDAR
VERSION:2.0
PRODID:-//Campbell River Genealogy Society - ECPv6.15.20//NONSGML v1.0//EN
CALSCALE:GREGORIAN
METHOD:PUBLISH
X-WR-CALNAME:Campbell River Genealogy Society
X-ORIGINAL-URL:https://www.crgenealogysociety.ca
X-WR-CALDESC:Events for Campbell River Genealogy Society
REFRESH-INTERVAL;VALUE=DURATION:PT1H
X-Robots-Tag:noindex
X-PUBLISHED-TTL:PT1H
BEGIN:VTIMEZONE
TZID:America/Vancouver
BEGIN:DAYLIGHT
TZOFFSETFROM:-0800
TZOFFSETTO:-0700
TZNAME:PDT
DTSTART:20240310T100000
END:DAYLIGHT
BEGIN:STANDARD
TZOFFSETFROM:-0700
TZOFFSETTO:-0800
TZNAME:PST
DTSTART:20241103T090000
END:STANDARD
BEGIN:DAYLIGHT
TZOFFSETFROM:-0800
TZOFFSETTO:-0700
TZNAME:PDT
DTSTART:20250309T100000
END:DAYLIGHT
BEGIN:STANDARD
TZOFFSETFROM:-0700
TZOFFSETTO:-0800
TZNAME:PST
DTSTART:20251102T090000
END:STANDARD
BEGIN:DAYLIGHT
TZOFFSETFROM:-0800
TZOFFSETTO:-0700
TZNAME:PDT
DTSTART:20260308T100000
END:DAYLIGHT
BEGIN:STANDARD
TZOFFSETFROM:-0700
TZOFFSETTO:-0800
TZNAME:PST
DTSTART:20261101T090000
END:STANDARD
END:VTIMEZONE
BEGIN:VEVENT
DTSTART;TZID=America/Vancouver:20251202T100000
DTEND;TZID=America/Vancouver:20251202T150000
DTSTAMP:20260423T215531
CREATED:20251101T123856Z
LAST-MODIFIED:20251101T123856Z
UID:5106-1764669600-1764687600@www.crgenealogysociety.ca
SUMMARY:Library Open
DESCRIPTION:
URL:https://www.crgenealogysociety.ca/events/library-open-80/
END:VEVENT
BEGIN:VEVENT
DTSTART;TZID=America/Vancouver:20251203T100000
DTEND;TZID=America/Vancouver:20251203T150000
DTSTAMP:20260423T215531
CREATED:20251101T124042Z
LAST-MODIFIED:20251101T124042Z
UID:5110-1764756000-1764774000@www.crgenealogysociety.ca
SUMMARY:Library Open
DESCRIPTION:
URL:https://www.crgenealogysociety.ca/events/library-open-75/
END:VEVENT
BEGIN:VEVENT
DTSTART;TZID=America/Vancouver:20251209T100000
DTEND;TZID=America/Vancouver:20251209T150000
DTSTAMP:20260423T215531
CREATED:20251101T124111Z
LAST-MODIFIED:20251101T124111Z
UID:5112-1765274400-1765292400@www.crgenealogysociety.ca
SUMMARY:Library Open
DESCRIPTION:
URL:https://www.crgenealogysociety.ca/events/library-open-81/
END:VEVENT
BEGIN:VEVENT
DTSTART;TZID=America/Vancouver:20251210T100000
DTEND;TZID=America/Vancouver:20251210T150000
DTSTAMP:20260423T215531
CREATED:20251101T124158Z
LAST-MODIFIED:20251101T124158Z
UID:5115-1765360800-1765378800@www.crgenealogysociety.ca
SUMMARY:Library Open + G&T
DESCRIPTION:The Library is open at 10 AM. \nIn the afternoon join us for Genealogy and Tea (or coffee) and treats in the CRGS Library. \nThis is a monthly casual drop-in social event held on the second Wednesday of each month. Come to connect with other genealogists\, browse the library collection\, and do a little research on the side if the spirit moves you.
URL:https://www.crgenealogysociety.ca/events/library-open-gt-10/
LOCATION:Maritime Heritage Centre\, 621 Island Hwy\, Campbell River\, British Columbia\, Canada
END:VEVENT
BEGIN:VEVENT
DTSTART;TZID=America/Vancouver:20251216T100000
DTEND;TZID=America/Vancouver:20251216T150000
DTSTAMP:20260423T215531
CREATED:20251101T124256Z
LAST-MODIFIED:20251101T124256Z
UID:5114-1765879200-1765897200@www.crgenealogysociety.ca
SUMMARY:Library Open
DESCRIPTION:
URL:https://www.crgenealogysociety.ca/events/library-open-82/
END:VEVENT
BEGIN:VEVENT
DTSTART;TZID=America/Vancouver:20251217T100000
DTEND;TZID=America/Vancouver:20251217T150000
DTSTAMP:20260423T215531
CREATED:20251101T143113Z
LAST-MODIFIED:20251101T143113Z
UID:5137-1765965600-1765983600@www.crgenealogysociety.ca
SUMMARY:Library Open
DESCRIPTION:
URL:https://www.crgenealogysociety.ca/events/library-open-85/
END:VEVENT
BEGIN:VEVENT
DTSTART;VALUE=DATE:20251223
DTEND;VALUE=DATE:20251224
DTSTAMP:20260423T215531
CREATED:20251101T124451Z
LAST-MODIFIED:20251101T124629Z
UID:5120-1766448000-1766534399@www.crgenealogysociety.ca
SUMMARY:Christmas Holidays (Closed)
DESCRIPTION:The Library will be closed for Christmas.
URL:https://www.crgenealogysociety.ca/events/christmas-holidays-closed/
END:VEVENT
BEGIN:VEVENT
DTSTART;VALUE=DATE:20251224
DTEND;VALUE=DATE:20251225
DTSTAMP:20260423T215531
CREATED:20251101T124646Z
LAST-MODIFIED:20251101T124646Z
UID:5125-1766534400-1766620799@www.crgenealogysociety.ca
SUMMARY:Christmas Holidays (Closed)
DESCRIPTION:The Library will be closed for Christmas.
URL:https://www.crgenealogysociety.ca/events/christmas-holidays-closed-2/
END:VEVENT
BEGIN:VEVENT
DTSTART;VALUE=DATE:20251230
DTEND;VALUE=DATE:20251231
DTSTAMP:20260423T215531
CREATED:20251101T124748Z
LAST-MODIFIED:20251101T124748Z
UID:5127-1767052800-1767139199@www.crgenealogysociety.ca
SUMMARY:Christmas Holidays (Closed)
DESCRIPTION:The Library will be closed for Christmas and New Years Holidays.
URL:https://www.crgenealogysociety.ca/events/christmas-holidays-closed-3/
END:VEVENT
BEGIN:VEVENT
DTSTART;VALUE=DATE:20251231
DTEND;VALUE=DATE:20260101
DTSTAMP:20260423T215531
CREATED:20251101T124810Z
LAST-MODIFIED:20251101T124810Z
UID:5129-1767139200-1767225599@www.crgenealogysociety.ca
SUMMARY:Christmas Holidays (Closed)
DESCRIPTION:The Library will be closed for Christmas and New Years Holidays.
URL:https://www.crgenealogysociety.ca/events/christmas-holidays-closed-4/
END:VEVENT
END:VCALENDAR