BEGIN:VCALENDAR
VERSION:2.0
PRODID:-//Campbell River Genealogy Society - ECPv6.15.20//NONSGML v1.0//EN
CALSCALE:GREGORIAN
METHOD:PUBLISH
X-WR-CALNAME:Campbell River Genealogy Society
X-ORIGINAL-URL:https://www.crgenealogysociety.ca
X-WR-CALDESC:Events for Campbell River Genealogy Society
REFRESH-INTERVAL;VALUE=DURATION:PT1H
X-Robots-Tag:noindex
X-PUBLISHED-TTL:PT1H
BEGIN:VTIMEZONE
TZID:America/Vancouver
BEGIN:DAYLIGHT
TZOFFSETFROM:-0800
TZOFFSETTO:-0700
TZNAME:PDT
DTSTART:20240310T100000
END:DAYLIGHT
BEGIN:STANDARD
TZOFFSETFROM:-0700
TZOFFSETTO:-0800
TZNAME:PST
DTSTART:20241103T090000
END:STANDARD
BEGIN:DAYLIGHT
TZOFFSETFROM:-0800
TZOFFSETTO:-0700
TZNAME:PDT
DTSTART:20250309T100000
END:DAYLIGHT
BEGIN:STANDARD
TZOFFSETFROM:-0700
TZOFFSETTO:-0800
TZNAME:PST
DTSTART:20251102T090000
END:STANDARD
BEGIN:DAYLIGHT
TZOFFSETFROM:-0800
TZOFFSETTO:-0700
TZNAME:PDT
DTSTART:20260308T100000
END:DAYLIGHT
BEGIN:STANDARD
TZOFFSETFROM:-0700
TZOFFSETTO:-0800
TZNAME:PST
DTSTART:20261101T090000
END:STANDARD
END:VTIMEZONE
BEGIN:VEVENT
DTSTART;TZID=America/Vancouver:20251101T100000
DTEND;TZID=America/Vancouver:20251101T120000
DTSTAMP:20260423T231123
CREATED:20251101T125923Z
LAST-MODIFIED:20251101T125958Z
UID:5135-1761991200-1761998400@www.crgenealogysociety.ca
SUMMARY:Veterans Flags
DESCRIPTION:Each year the Society places flags at the graves of all known veterans at the two local cemeteries – Highway 19 and Elk Falls. These flags remain in place for the month of November. \nIf you know of a veteran at one of these cemeteries that is not recognized please contact the Projects Committee at crgsprojects@gmail.com
URL:https://www.crgenealogysociety.ca/events/veterans-flags/
END:VEVENT
BEGIN:VEVENT
DTSTART;TZID=America/Vancouver:20251104T100000
DTEND;TZID=America/Vancouver:20251104T150000
DTSTAMP:20260423T231123
CREATED:20251101T122906Z
LAST-MODIFIED:20251101T122906Z
UID:5085-1762250400-1762268400@www.crgenealogysociety.ca
SUMMARY:Library Open
DESCRIPTION:
URL:https://www.crgenealogysociety.ca/events/library-open-73/
END:VEVENT
BEGIN:VEVENT
DTSTART;TZID=America/Vancouver:20251105T100000
DTEND;TZID=America/Vancouver:20251105T150000
DTSTAMP:20260423T231123
CREATED:20251101T122940Z
LAST-MODIFIED:20251101T122940Z
UID:5087-1762336800-1762354800@www.crgenealogysociety.ca
SUMMARY:Library Open
DESCRIPTION:
URL:https://www.crgenealogysociety.ca/events/library-open-74/
END:VEVENT
BEGIN:VEVENT
DTSTART;TZID=America/Vancouver:20251106T183000
DTEND;TZID=America/Vancouver:20251106T210000
DTSTAMP:20260423T231123
CREATED:20251031T165731Z
LAST-MODIFIED:20251031T173840Z
UID:5071-1762453800-1762462800@www.crgenealogysociety.ca
SUMMARY:**Regular Meeting** 7-9 PM Details Click Here
DESCRIPTION:This will be a Hybrid Event. Doors open at 6:30 PM – Meeting at 7 \nAt the Maritime Heritage Centre by the Pier \n                  Education Feature: Military Family Members \nSix Members will present the Story and Research for a Military Relative\nFeatured conflicts:\nWorld War I\nWorld War II\nKorean War\nThe public is welcome! \nNon-members can receive your personal invite click Here \nThe Doors will be open at 6:30 for Social Time before the meeting.
URL:https://www.crgenealogysociety.ca/events/regular-meeting-7-9-pm-details-click-here-5/
LOCATION:Maritime Heritage Centre\, 621 Island Hwy\, Campbell River\, British Columbia\, Canada
ORGANIZER;CN="Campbell River Genealogy Society":MAILTO:crgenealogy@shaw.ca
END:VEVENT
BEGIN:VEVENT
DTSTART;TZID=America/Vancouver:20251108T100000
DTEND;TZID=America/Vancouver:20251108T120000
DTSTAMP:20260423T231123
CREATED:20250914T182934Z
LAST-MODIFIED:20250914T183156Z
UID:5011-1762596000-1762603200@www.crgenealogysociety.ca
SUMMARY:2025 Fall Seminar
DESCRIPTION:Every Scrap Tells a Story: Practical Genealogy Research with the GPS \nThe Genealogical Proof Standard (GPS) provides a framework for reliable research and writing\, helping genealogists produce work that stands the test of time. \nFeaturing Professional Genealogist and Educator Eva Holmes \nDetailed Poster Here \nRegistration Details: Zoom only–Doors open at 9:30–Presentation at 10:00 \nPre-registration required: https://us02web.zoom.us/meeting/register/MQAoFHx_TlK59EaOKvwIDw \nRegistration Fee: $10 by eTransfer to crgstreasurer@gmail.com \nDeadline: 12:00 noon Friday November 7th
URL:https://www.crgenealogysociety.ca/events/2025-fall-seminar/
END:VEVENT
BEGIN:VEVENT
DTSTART;VALUE=DATE:20251111
DTEND;VALUE=DATE:20251112
DTSTAMP:20260423T231123
CREATED:20251101T123043Z
LAST-MODIFIED:20251101T123806Z
UID:5090-1762819200-1762905599@www.crgenealogysociety.ca
SUMMARY:Remembrance Day (Closed)
DESCRIPTION:
URL:https://www.crgenealogysociety.ca/events/library-closed-for-remembrance-day/
END:VEVENT
BEGIN:VEVENT
DTSTART;TZID=America/Vancouver:20251112T100000
DTEND;TZID=America/Vancouver:20251112T150000
DTSTAMP:20260423T231123
CREATED:20251101T123958Z
LAST-MODIFIED:20251101T123958Z
UID:5108-1762941600-1762959600@www.crgenealogysociety.ca
SUMMARY:Library Open + G&T
DESCRIPTION:The Library is open at 10 AM. \nIn the afternoon join us for Genealogy and Tea (or coffee) and treats in the CRGS Library. \nThis is a monthly casual drop-in social event held on the second Wednesday of each month. Come to connect with other genealogists\, browse the library collection\, and do a little research on the side if the spirit moves you.
URL:https://www.crgenealogysociety.ca/events/library-open-gt-9/
LOCATION:Maritime Heritage Centre\, 621 Island Hwy\, Campbell River\, British Columbia\, Canada
END:VEVENT
BEGIN:VEVENT
DTSTART;TZID=America/Vancouver:20251113T133000
DTEND;TZID=America/Vancouver:20251113T153000
DTSTAMP:20260423T231123
CREATED:20251031T175239Z
LAST-MODIFIED:20251101T145230Z
UID:5075-1763040600-1763047800@www.crgenealogysociety.ca
SUMMARY:DNA workshop - GedMatch
DESCRIPTION:Thursday November 13th: DNA – GedMatch review\n1:30 PM to 3:30 PM\n\nHybrid Format\n$5.00 in person or by eTransfer to crgstreasurer@gmail.com\n\nIn Person: arrive a few minutes before we start so you can set up your device. Two desktop computers are available. Let me know if you need one.\nZoomers must register with this link. https://us02web.zoom.us/meeting/register/G0zTcKqLQ-apOTBQPA_FHg\nOnce your payment is confirmed you will get the link to attend. Please sign up well before the class. I cannot admit you once it starts.\n\n\nGedMatch is a 3rd party site that accepts DNA from all the primary testing sites. This workshop will help you get your DNA data there and review the site and its tools. For all levels.
URL:https://www.crgenealogysociety.ca/events/dna-workshop-keeping-track-of-your-matches/
END:VEVENT
BEGIN:VEVENT
DTSTART;TZID=America/Vancouver:20251114T100000
DTEND;TZID=America/Vancouver:20251114T140000
DTSTAMP:20260423T231123
CREATED:20251101T125424Z
LAST-MODIFIED:20251101T125424Z
UID:5133-1763114400-1763128800@www.crgenealogysociety.ca
SUMMARY:Inventory - Volunteers Needed
DESCRIPTION:Volunteers needed to inventory our collection. \nBring a lunch. \nContact Rita is you can help bcing_you@hotmail.com
URL:https://www.crgenealogysociety.ca/events/inventory-volunteers-needed/
END:VEVENT
BEGIN:VEVENT
DTSTART;TZID=America/Vancouver:20251118T100000
DTEND;TZID=America/Vancouver:20251118T150000
DTSTAMP:20260423T231123
CREATED:20251101T123153Z
LAST-MODIFIED:20251101T123153Z
UID:5093-1763460000-1763478000@www.crgenealogysociety.ca
SUMMARY:Library Open
DESCRIPTION:
URL:https://www.crgenealogysociety.ca/events/library-open-76/
END:VEVENT
BEGIN:VEVENT
DTSTART;TZID=America/Vancouver:20251119T100000
DTEND;TZID=America/Vancouver:20251119T150000
DTSTAMP:20260423T231123
CREATED:20251101T123212Z
LAST-MODIFIED:20251101T123212Z
UID:5095-1763546400-1763564400@www.crgenealogysociety.ca
SUMMARY:Library Open
DESCRIPTION:
URL:https://www.crgenealogysociety.ca/events/library-open-77/
END:VEVENT
BEGIN:VEVENT
DTSTART;TZID=America/Vancouver:20251120T130000
DTEND;TZID=America/Vancouver:20251120T150000
DTSTAMP:20260423T231123
CREATED:20251101T121720Z
LAST-MODIFIED:20251101T122649Z
UID:5079-1763643600-1763650800@www.crgenealogysociety.ca
SUMMARY:Beginners Class at Evergreen Seniors Courtenay
DESCRIPTION:Rita Balboni will be presenting a Beginners Genealogy Class at the Evergreen Seniors Genealogy Club \nFlorence Filberg Centre \n411 Anderton Ave\, Courtenay \nIf you wish to be invited contact Rita at bcing_you@hotmail.com
URL:https://www.crgenealogysociety.ca/events/crgs-a-beginners-class-for-evergreen-seniors-courtenay/
END:VEVENT
BEGIN:VEVENT
DTSTART;TZID=America/Vancouver:20251121T130000
DTEND;TZID=America/Vancouver:20251121T150000
DTSTAMP:20260423T231123
CREATED:20251101T120921Z
LAST-MODIFIED:20251101T121052Z
UID:5074-1763730000-1763737200@www.crgenealogysociety.ca
SUMMARY:Workshop - Beginners Genealogy Class
DESCRIPTION:Friday November 21st : Beginners Genealogy with Rita Balboni\n\n1:00 PM to 3 PM\nHybrid Format\n$5.00 in person or by eTransfer to crgstreasurer@gmail.com\n\nIn Person: arrive a few minutes before we start so you can set up your device. Two desktop computers are available. Let Rita know if you need one but sending her an email to Rita at bcing_you@hotmail.com.\nZoomers must register with this link. https://us02web.zoom.us/meeting/register/NM1v65BuR7meFNofFDsH-A\nOnce your payment is confirmed you will get the link to attend. Please sign up well before the class. We cannot admit you once it starts.\n\n\nThis class is for new and novice genealogists who wish to learn the process of creating and documenting their family history.
URL:https://www.crgenealogysociety.ca/events/workshop-beginners-genealogy-class/
END:VEVENT
BEGIN:VEVENT
DTSTART;TZID=America/Vancouver:20251124T180000
DTEND;TZID=America/Vancouver:20251124T193000
DTSTAMP:20260423T231123
CREATED:20251101T123530Z
LAST-MODIFIED:20251101T123530Z
UID:5101-1764007200-1764012600@www.crgenealogysociety.ca
SUMMARY:Board and Budget Meeting (Zoom only)
DESCRIPTION:Board only
URL:https://www.crgenealogysociety.ca/events/board-and-budget-meeting-zoom-only/
END:VEVENT
BEGIN:VEVENT
DTSTART;TZID=America/Vancouver:20251125T100000
DTEND;TZID=America/Vancouver:20251125T150000
DTSTAMP:20260423T231123
CREATED:20251101T123232Z
LAST-MODIFIED:20251101T123232Z
UID:5097-1764064800-1764082800@www.crgenealogysociety.ca
SUMMARY:Library Open
DESCRIPTION:
URL:https://www.crgenealogysociety.ca/events/library-open-78/
END:VEVENT
BEGIN:VEVENT
DTSTART;TZID=America/Vancouver:20251126T100000
DTEND;TZID=America/Vancouver:20251126T150000
DTSTAMP:20260423T231123
CREATED:20251101T123256Z
LAST-MODIFIED:20251101T123256Z
UID:5099-1764151200-1764169200@www.crgenealogysociety.ca
SUMMARY:Library Open
DESCRIPTION:
URL:https://www.crgenealogysociety.ca/events/library-open-79/
END:VEVENT
END:VCALENDAR