BEGIN:VCALENDAR
VERSION:2.0
PRODID:-//Campbell River Genealogy Society - ECPv6.15.20//NONSGML v1.0//EN
CALSCALE:GREGORIAN
METHOD:PUBLISH
X-ORIGINAL-URL:https://www.crgenealogysociety.ca
X-WR-CALDESC:Events for Campbell River Genealogy Society
REFRESH-INTERVAL;VALUE=DURATION:PT1H
X-Robots-Tag:noindex
X-PUBLISHED-TTL:PT1H
BEGIN:VTIMEZONE
TZID:America/Vancouver
BEGIN:DAYLIGHT
TZOFFSETFROM:-0800
TZOFFSETTO:-0700
TZNAME:PDT
DTSTART:20240310T100000
END:DAYLIGHT
BEGIN:STANDARD
TZOFFSETFROM:-0700
TZOFFSETTO:-0800
TZNAME:PST
DTSTART:20241103T090000
END:STANDARD
BEGIN:DAYLIGHT
TZOFFSETFROM:-0800
TZOFFSETTO:-0700
TZNAME:PDT
DTSTART:20250309T100000
END:DAYLIGHT
BEGIN:STANDARD
TZOFFSETFROM:-0700
TZOFFSETTO:-0800
TZNAME:PST
DTSTART:20251102T090000
END:STANDARD
BEGIN:DAYLIGHT
TZOFFSETFROM:-0800
TZOFFSETTO:-0700
TZNAME:PDT
DTSTART:20260308T100000
END:DAYLIGHT
BEGIN:STANDARD
TZOFFSETFROM:-0700
TZOFFSETTO:-0800
TZNAME:PST
DTSTART:20261101T090000
END:STANDARD
END:VTIMEZONE
BEGIN:VEVENT
DTSTART;TZID=America/Vancouver:20250902T100000
DTEND;TZID=America/Vancouver:20250902T140000
DTSTAMP:20260424T022757
CREATED:20250729T203001Z
LAST-MODIFIED:20250729T203001Z
UID:4952-1756807200-1756821600@www.crgenealogysociety.ca
SUMMARY:Library Open
DESCRIPTION:
URL:https://www.crgenealogysociety.ca/events/library-open-57/
END:VEVENT
BEGIN:VEVENT
DTSTART;TZID=America/Vancouver:20250903T100000
DTEND;TZID=America/Vancouver:20250903T150000
DTSTAMP:20260424T022757
CREATED:20250729T203024Z
LAST-MODIFIED:20250830T004339Z
UID:4954-1756893600-1756911600@www.crgenealogysociety.ca
SUMMARY:Library Open
DESCRIPTION:
URL:https://www.crgenealogysociety.ca/events/library-open-58/
END:VEVENT
BEGIN:VEVENT
DTSTART;TZID=America/Vancouver:20250904T183000
DTEND;TZID=America/Vancouver:20250904T210000
DTSTAMP:20260424T022757
CREATED:20250729T203848Z
LAST-MODIFIED:20250729T204102Z
UID:4958-1757010600-1757019600@www.crgenealogysociety.ca
SUMMARY:**Regular Meeting** 7-9 PM Details Click Here
DESCRIPTION:This will be a Hybrid Event. Doors open at 6:30 PM – Meeting at 7 \nAt the Maritime Heritage Centre by the Pier \n                  Education Feature: Crowd Sourcing the unchosen Quest. \nCan you help out?\nThis meeting looks at Harry’s Quest submission from the spring\n to see if we can help him knock down a long standing Brick Wall.\n\nSee his Quest in the June issue of the Treehouse.\n\nThe public is welcome! \nNon-members can receive your personal invite click Here \nThe Doors will be open at 6:30 for Social Time before the meeting.
URL:https://www.crgenealogysociety.ca/events/regular-meeting-7-9-pm-details-click-here-4/
LOCATION:Maritime Heritage Centre\, 621 Island Hwy\, Campbell River\, British Columbia\, Canada
ORGANIZER;CN="Campbell River Genealogy Society":MAILTO:crgenealogy@shaw.ca
END:VEVENT
BEGIN:VEVENT
DTSTART;TZID=America/Vancouver:20250909T100000
DTEND;TZID=America/Vancouver:20250909T140000
DTSTAMP:20260424T022757
CREATED:20250830T004702Z
LAST-MODIFIED:20250830T004702Z
UID:4970-1757412000-1757426400@www.crgenealogysociety.ca
SUMMARY:Library Open
DESCRIPTION:
URL:https://www.crgenealogysociety.ca/events/library-open-61/
END:VEVENT
BEGIN:VEVENT
DTSTART;TZID=America/Vancouver:20250910T100000
DTEND;TZID=America/Vancouver:20250910T150000
DTSTAMP:20260424T022757
CREATED:20250830T004623Z
LAST-MODIFIED:20250830T004623Z
UID:4968-1757498400-1757516400@www.crgenealogysociety.ca
SUMMARY:Library Open + G&T
DESCRIPTION:The Library is open at 10 AM. \nIn the afternoon join us for Genealogy and Tea (or coffee) and treats in the CRGS Library. \nThis is a monthly casual drop-in social event held on the second Wednesday of each month. Come to connect with other genealogists\, browse the library collection\, and do a little research on the side if the spirit moves you.
URL:https://www.crgenealogysociety.ca/events/library-open-gt-7/
LOCATION:Maritime Heritage Centre\, 621 Island Hwy\, Campbell River\, British Columbia\, Canada
END:VEVENT
BEGIN:VEVENT
DTSTART;TZID=America/Vancouver:20250916T100000
DTEND;TZID=America/Vancouver:20250916T140000
DTSTAMP:20260424T022757
CREATED:20250830T004739Z
LAST-MODIFIED:20250830T004739Z
UID:4972-1758016800-1758031200@www.crgenealogysociety.ca
SUMMARY:Library Open
DESCRIPTION:
URL:https://www.crgenealogysociety.ca/events/library-open-62/
END:VEVENT
BEGIN:VEVENT
DTSTART;TZID=America/Vancouver:20250917T100000
DTEND;TZID=America/Vancouver:20250917T150000
DTSTAMP:20260424T022757
CREATED:20250830T004515Z
LAST-MODIFIED:20250830T004515Z
UID:4964-1758103200-1758121200@www.crgenealogysociety.ca
SUMMARY:Library Open
DESCRIPTION:
URL:https://www.crgenealogysociety.ca/events/library-open-59/
END:VEVENT
BEGIN:VEVENT
DTSTART;TZID=America/Vancouver:20250923T100000
DTEND;TZID=America/Vancouver:20250923T140000
DTSTAMP:20260424T022757
CREATED:20250830T004809Z
LAST-MODIFIED:20250830T004809Z
UID:4974-1758621600-1758636000@www.crgenealogysociety.ca
SUMMARY:Library Open
DESCRIPTION:
URL:https://www.crgenealogysociety.ca/events/library-open-63/
END:VEVENT
BEGIN:VEVENT
DTSTART;TZID=America/Vancouver:20250924T100000
DTEND;TZID=America/Vancouver:20250924T150000
DTSTAMP:20260424T022757
CREATED:20250830T004537Z
LAST-MODIFIED:20250830T004537Z
UID:4966-1758708000-1758726000@www.crgenealogysociety.ca
SUMMARY:Library Open
DESCRIPTION:
URL:https://www.crgenealogysociety.ca/events/library-open-60/
END:VEVENT
BEGIN:VEVENT
DTSTART;TZID=America/Vancouver:20250930T100000
DTEND;TZID=America/Vancouver:20250930T140000
DTSTAMP:20260424T022757
CREATED:20250830T004912Z
LAST-MODIFIED:20250830T004912Z
UID:4976-1759226400-1759240800@www.crgenealogysociety.ca
SUMMARY:Library Open
DESCRIPTION:
URL:https://www.crgenealogysociety.ca/events/library-open-64/
END:VEVENT
END:VCALENDAR