BEGIN:VCALENDAR
VERSION:2.0
PRODID:-//Campbell River Genealogy Society - ECPv6.15.20//NONSGML v1.0//EN
CALSCALE:GREGORIAN
METHOD:PUBLISH
X-ORIGINAL-URL:https://www.crgenealogysociety.ca
X-WR-CALDESC:Events for Campbell River Genealogy Society
REFRESH-INTERVAL;VALUE=DURATION:PT1H
X-Robots-Tag:noindex
X-PUBLISHED-TTL:PT1H
BEGIN:VTIMEZONE
TZID:America/Vancouver
BEGIN:DAYLIGHT
TZOFFSETFROM:-0800
TZOFFSETTO:-0700
TZNAME:PDT
DTSTART:20240310T100000
END:DAYLIGHT
BEGIN:STANDARD
TZOFFSETFROM:-0700
TZOFFSETTO:-0800
TZNAME:PST
DTSTART:20241103T090000
END:STANDARD
BEGIN:DAYLIGHT
TZOFFSETFROM:-0800
TZOFFSETTO:-0700
TZNAME:PDT
DTSTART:20250309T100000
END:DAYLIGHT
BEGIN:STANDARD
TZOFFSETFROM:-0700
TZOFFSETTO:-0800
TZNAME:PST
DTSTART:20251102T090000
END:STANDARD
BEGIN:DAYLIGHT
TZOFFSETFROM:-0800
TZOFFSETTO:-0700
TZNAME:PDT
DTSTART:20260308T100000
END:DAYLIGHT
BEGIN:STANDARD
TZOFFSETFROM:-0700
TZOFFSETTO:-0800
TZNAME:PST
DTSTART:20261101T090000
END:STANDARD
END:VTIMEZONE
BEGIN:VEVENT
DTSTART;TZID=America/Vancouver:20250701T100000
DTEND;TZID=America/Vancouver:20250701T140000
DTSTAMP:20260424T051930
CREATED:20250531T164041Z
LAST-MODIFIED:20250531T164041Z
UID:4817-1751364000-1751378400@www.crgenealogysociety.ca
SUMMARY:Library Closed - Happy Canada Day!
DESCRIPTION:
URL:https://www.crgenealogysociety.ca/events/library-closed-happy-canada-day/
END:VEVENT
BEGIN:VEVENT
DTSTART;TZID=America/Vancouver:20250702T100000
DTEND;TZID=America/Vancouver:20250702T140000
DTSTAMP:20260424T051930
CREATED:20250531T164121Z
LAST-MODIFIED:20250531T164121Z
UID:4818-1751450400-1751464800@www.crgenealogysociety.ca
SUMMARY:Library Open
DESCRIPTION:
URL:https://www.crgenealogysociety.ca/events/library-open-38/
END:VEVENT
BEGIN:VEVENT
DTSTART;TZID=America/Vancouver:20250708T100000
DTEND;TZID=America/Vancouver:20250708T140000
DTSTAMP:20260424T051930
CREATED:20250531T164144Z
LAST-MODIFIED:20250531T164144Z
UID:4821-1751968800-1751983200@www.crgenealogysociety.ca
SUMMARY:Library Open
DESCRIPTION:
URL:https://www.crgenealogysociety.ca/events/library-open-43/
END:VEVENT
BEGIN:VEVENT
DTSTART;TZID=America/Vancouver:20250709T100000
DTEND;TZID=America/Vancouver:20250709T150000
DTSTAMP:20260424T051930
CREATED:20250531T164220Z
LAST-MODIFIED:20250531T164220Z
UID:4823-1752055200-1752073200@www.crgenealogysociety.ca
SUMMARY:Library Open + G&T
DESCRIPTION:The Library is open at 10 AM. \nIn the afternoon join us for Genealogy and Tea (or coffee) and treats in the CRGS Library. \nThis is a monthly casual drop-in social event held on the second Wednesday of each month. Come to connect with other genealogists\, browse the library collection\, and do a little research on the side if the spirit moves you.
URL:https://www.crgenealogysociety.ca/events/library-open-gt-5/
LOCATION:Maritime Heritage Centre\, 621 Island Hwy\, Campbell River\, British Columbia\, Canada
END:VEVENT
BEGIN:VEVENT
DTSTART;TZID=America/Vancouver:20250715T100000
DTEND;TZID=America/Vancouver:20250715T140000
DTSTAMP:20260424T051930
CREATED:20250531T164350Z
LAST-MODIFIED:20250531T164350Z
UID:4827-1752573600-1752588000@www.crgenealogysociety.ca
SUMMARY:Library Open
DESCRIPTION:
URL:https://www.crgenealogysociety.ca/events/library-open-44/
END:VEVENT
BEGIN:VEVENT
DTSTART;TZID=America/Vancouver:20250716T100000
DTEND;TZID=America/Vancouver:20250716T140000
DTSTAMP:20260424T051930
CREATED:20250531T164409Z
LAST-MODIFIED:20250531T164409Z
UID:4829-1752660000-1752674400@www.crgenealogysociety.ca
SUMMARY:Library Open
DESCRIPTION:
URL:https://www.crgenealogysociety.ca/events/library-open-45/
END:VEVENT
BEGIN:VEVENT
DTSTART;TZID=America/Vancouver:20250722T100000
DTEND;TZID=America/Vancouver:20250722T140000
DTSTAMP:20260424T051930
CREATED:20250531T164431Z
LAST-MODIFIED:20250531T164431Z
UID:4831-1753178400-1753192800@www.crgenealogysociety.ca
SUMMARY:Library Open
DESCRIPTION:
URL:https://www.crgenealogysociety.ca/events/library-open-46/
END:VEVENT
BEGIN:VEVENT
DTSTART;TZID=America/Vancouver:20250723T100000
DTEND;TZID=America/Vancouver:20250723T140000
DTSTAMP:20260424T051930
CREATED:20250531T164452Z
LAST-MODIFIED:20250531T164452Z
UID:4833-1753264800-1753279200@www.crgenealogysociety.ca
SUMMARY:Library Open
DESCRIPTION:
URL:https://www.crgenealogysociety.ca/events/library-open-47/
END:VEVENT
BEGIN:VEVENT
DTSTART;TZID=America/Vancouver:20250729T100000
DTEND;TZID=America/Vancouver:20250729T140000
DTSTAMP:20260424T051930
CREATED:20250531T164519Z
LAST-MODIFIED:20250531T164519Z
UID:4835-1753783200-1753797600@www.crgenealogysociety.ca
SUMMARY:Library Open
DESCRIPTION:
URL:https://www.crgenealogysociety.ca/events/library-open-48/
END:VEVENT
BEGIN:VEVENT
DTSTART;TZID=America/Vancouver:20250730T100000
DTEND;TZID=America/Vancouver:20250730T140000
DTSTAMP:20260424T051930
CREATED:20250531T164541Z
LAST-MODIFIED:20250531T164541Z
UID:4837-1753869600-1753884000@www.crgenealogysociety.ca
SUMMARY:Library Open
DESCRIPTION:
URL:https://www.crgenealogysociety.ca/events/library-open-49/
END:VEVENT
END:VCALENDAR