BEGIN:VCALENDAR
VERSION:2.0
PRODID:-//Campbell River Genealogy Society - ECPv6.15.20//NONSGML v1.0//EN
CALSCALE:GREGORIAN
METHOD:PUBLISH
X-ORIGINAL-URL:https://www.crgenealogysociety.ca
X-WR-CALDESC:Events for Campbell River Genealogy Society
REFRESH-INTERVAL;VALUE=DURATION:PT1H
X-Robots-Tag:noindex
X-PUBLISHED-TTL:PT1H
BEGIN:VTIMEZONE
TZID:America/Vancouver
BEGIN:DAYLIGHT
TZOFFSETFROM:-0800
TZOFFSETTO:-0700
TZNAME:PDT
DTSTART:20240310T100000
END:DAYLIGHT
BEGIN:STANDARD
TZOFFSETFROM:-0700
TZOFFSETTO:-0800
TZNAME:PST
DTSTART:20241103T090000
END:STANDARD
BEGIN:DAYLIGHT
TZOFFSETFROM:-0800
TZOFFSETTO:-0700
TZNAME:PDT
DTSTART:20250309T100000
END:DAYLIGHT
BEGIN:STANDARD
TZOFFSETFROM:-0700
TZOFFSETTO:-0800
TZNAME:PST
DTSTART:20251102T090000
END:STANDARD
BEGIN:DAYLIGHT
TZOFFSETFROM:-0800
TZOFFSETTO:-0700
TZNAME:PDT
DTSTART:20260308T100000
END:DAYLIGHT
BEGIN:STANDARD
TZOFFSETFROM:-0700
TZOFFSETTO:-0800
TZNAME:PST
DTSTART:20261101T090000
END:STANDARD
END:VTIMEZONE
BEGIN:VEVENT
DTSTART;TZID=America/Vancouver:20250603T100000
DTEND;TZID=America/Vancouver:20250603T140000
DTSTAMP:20260424T064821
CREATED:20250429T233734Z
LAST-MODIFIED:20250531T142036Z
UID:4582-1748944800-1748959200@www.crgenealogysociety.ca
SUMMARY:Library Open
DESCRIPTION:
URL:https://www.crgenealogysociety.ca/events/library-open-31/
END:VEVENT
BEGIN:VEVENT
DTSTART;TZID=America/Vancouver:20250604T100000
DTEND;TZID=America/Vancouver:20250604T140000
DTSTAMP:20260424T064821
CREATED:20250531T142232Z
LAST-MODIFIED:20250531T142232Z
UID:4779-1749031200-1749045600@www.crgenealogysociety.ca
SUMMARY:Library Open
DESCRIPTION:
URL:https://www.crgenealogysociety.ca/events/library-open-37/
END:VEVENT
BEGIN:VEVENT
DTSTART;TZID=America/Vancouver:20250605T183000
DTEND;TZID=America/Vancouver:20250605T210000
DTSTAMP:20260424T064821
CREATED:20250402T213400Z
LAST-MODIFIED:20250531T163151Z
UID:4524-1749148200-1749157200@www.crgenealogysociety.ca
SUMMARY:**Regular Meeting** 7-9 PM Details Click Here
DESCRIPTION:This will be a Hybrid Event. Doors open at 6:30 PM – Meeting at 7 \nAt the Maritime Heritage Centre by the Pier \n                  Education Feature: The Quest Reveal \nCandy-Lea will present the findings of the Quest team.\nThe team members have been working for the past two months\nattempting to knock down a long standing Brick Wall for our member Duncan.\nCome see the results of their efforts.\nThe public is welcome! \nNon-members can receive your personal invite click Here \nThe Doors will be open at 6:30 for Social Time before the meeting.
URL:https://www.crgenealogysociety.ca/events/regular-meeting-7-9-pm-details-click-here-17/
LOCATION:Maritime Heritage Centre\, 621 Island Hwy\, Campbell River\, British Columbia\, Canada
ORGANIZER;CN="Campbell River Genealogy Society":MAILTO:crgenealogy@shaw.ca
END:VEVENT
BEGIN:VEVENT
DTSTART;TZID=America/Vancouver:20250607T100000
DTEND;TZID=America/Vancouver:20250607T150000
DTSTAMP:20260424T064821
CREATED:20250531T160605Z
LAST-MODIFIED:20250531T163007Z
UID:4807-1749290400-1749308400@www.crgenealogysociety.ca
SUMMARY:OPEN HOUSE
DESCRIPTION:Stop by for a visit as we host an Open House in our CRGS Library. \nThe Maritime Heritage Centre is also hosting a Market Day outside and upstairs in the Rotary Hall.\nPlenty of Artisans and other Venders will be there \nWe will have a Book Sale table outside. \nMembers are welcome to donate Genealogy and Historical Books for the sale. No fiction will be accepted. \nVolunteers are needed for set up and 2-hour shifts. \nPlease contact Rita at bcing_you@hotmail.com or call 250-914-1032 
URL:https://www.crgenealogysociety.ca/events/open-house/
END:VEVENT
BEGIN:VEVENT
DTSTART;TZID=America/Vancouver:20250609T100000
DTEND;TZID=America/Vancouver:20250609T150000
DTSTAMP:20260424T064821
CREATED:20250531T143605Z
LAST-MODIFIED:20250531T144053Z
UID:4795-1749463200-1749481200@www.crgenealogysociety.ca
SUMMARY:Family Tree Maker Workshops
DESCRIPTION:Two Family Tree Maker sessions will be offered at the CR Library.\nOpen to Windows and Mac users and will be held in person. The cost is $5 per session.\n\n\nFTM for New Users – 10:00 a.m. to 12:00 p.m. If you are attending both\, bring your lunch.\n\n\nFTM – What’s New for the FTM 2024 Version – 1:00 p.m. to 3:00 p.m.\n\n\nIf you have any topics you would like to be covered or discussed\, please contact Darlene Watson. darry01@telus.net\nLooking forward to seeing you there!
URL:https://www.crgenealogysociety.ca/events/family-tree-maker-workshops/
END:VEVENT
BEGIN:VEVENT
DTSTART;TZID=America/Vancouver:20250610T100000
DTEND;TZID=America/Vancouver:20250610T140000
DTSTAMP:20260424T064821
CREATED:20250531T142124Z
LAST-MODIFIED:20250531T142124Z
UID:4777-1749549600-1749564000@www.crgenealogysociety.ca
SUMMARY:Library Open
DESCRIPTION:
URL:https://www.crgenealogysociety.ca/events/library-open-36/
END:VEVENT
BEGIN:VEVENT
DTSTART;TZID=America/Vancouver:20250611T100000
DTEND;TZID=America/Vancouver:20250611T150000
DTSTAMP:20260424T064821
CREATED:20250531T142757Z
LAST-MODIFIED:20250531T143112Z
UID:4791-1749636000-1749654000@www.crgenealogysociety.ca
SUMMARY:Library Open + G&T
DESCRIPTION:The Library is open at 10 AM. \nIn the afternoon join us for Genealogy and Tea (or coffee) and treats in the CRGS Library. \nThis is a monthly casual drop-in social event held on the second Wednesday of each month. Come to connect with other genealogists\, browse the library collection\, and do a little research on the side if the spirit moves you.
URL:https://www.crgenealogysociety.ca/events/library-open-gt-4/
LOCATION:Maritime Heritage Centre\, 621 Island Hwy\, Campbell River\, British Columbia\, Canada
END:VEVENT
BEGIN:VEVENT
DTSTART;TZID=America/Vancouver:20250614T100000
DTEND;TZID=America/Vancouver:20250614T140000
DTSTAMP:20260424T064821
CREATED:20250531T163445Z
LAST-MODIFIED:20250531T163445Z
UID:4813-1749895200-1749909600@www.crgenealogysociety.ca
SUMMARY:Research Bee Workshop
DESCRIPTION:In Person Only! \nHone your research skills by participating in a collaborative research workshop. \nMystery items from the Project Bin will be chosen for this exercise. \nAttendees will work together to examine artifacts and documents\, research for more information\, cite sources\, and begin developing a report. \nBring your lunch. Coffee and tea provided. \nPlease RSVP to Christol xoljames@icloud.com if you are interested. \nFuture Bees may centre on specific CRGS database indexes to focus our efforts locally.
URL:https://www.crgenealogysociety.ca/events/research-bee-workshop/
END:VEVENT
BEGIN:VEVENT
DTSTART;TZID=America/Vancouver:20250616T130000
DTEND;TZID=America/Vancouver:20250616T150000
DTSTAMP:20260424T064821
CREATED:20250531T163753Z
LAST-MODIFIED:20250531T163753Z
UID:4815-1750078800-1750086000@www.crgenealogysociety.ca
SUMMARY:Library Committee Meeting (Closed to visitors)
DESCRIPTION:
URL:https://www.crgenealogysociety.ca/events/library-committee-meeting-closed-to-visitors-4/
LOCATION:Maritime Heritage Centre\, 621 Island Hwy\, Campbell River\, British Columbia\, Canada
END:VEVENT
BEGIN:VEVENT
DTSTART;TZID=America/Vancouver:20250617T100000
DTEND;TZID=America/Vancouver:20250617T140000
DTSTAMP:20260424T064821
CREATED:20250531T142557Z
LAST-MODIFIED:20250531T142557Z
UID:4783-1750154400-1750168800@www.crgenealogysociety.ca
SUMMARY:Library Open
DESCRIPTION:
URL:https://www.crgenealogysociety.ca/events/library-open-39/
END:VEVENT
BEGIN:VEVENT
DTSTART;TZID=America/Vancouver:20250618T100000
DTEND;TZID=America/Vancouver:20250618T140000
DTSTAMP:20260424T064821
CREATED:20250531T142620Z
LAST-MODIFIED:20250531T142620Z
UID:4785-1750240800-1750255200@www.crgenealogysociety.ca
SUMMARY:Library Open
DESCRIPTION:
URL:https://www.crgenealogysociety.ca/events/library-open-40/
END:VEVENT
BEGIN:VEVENT
DTSTART;TZID=America/Vancouver:20250624T100000
DTEND;TZID=America/Vancouver:20250624T140000
DTSTAMP:20260424T064821
CREATED:20250531T142712Z
LAST-MODIFIED:20250531T163621Z
UID:4789-1750759200-1750773600@www.crgenealogysociety.ca
SUMMARY:Library Open
DESCRIPTION:
URL:https://www.crgenealogysociety.ca/events/library-open-42/
END:VEVENT
BEGIN:VEVENT
DTSTART;TZID=America/Vancouver:20250625T100000
DTEND;TZID=America/Vancouver:20250625T140000
DTSTAMP:20260424T064821
CREATED:20250531T142648Z
LAST-MODIFIED:20250531T142648Z
UID:4787-1750845600-1750860000@www.crgenealogysociety.ca
SUMMARY:Library Open
DESCRIPTION:
URL:https://www.crgenealogysociety.ca/events/library-open-41/
END:VEVENT
END:VCALENDAR