BEGIN:VCALENDAR
VERSION:2.0
PRODID:-//Campbell River Genealogy Society - ECPv6.15.20//NONSGML v1.0//EN
CALSCALE:GREGORIAN
METHOD:PUBLISH
X-ORIGINAL-URL:https://www.crgenealogysociety.ca
X-WR-CALDESC:Events for Campbell River Genealogy Society
REFRESH-INTERVAL;VALUE=DURATION:PT1H
X-Robots-Tag:noindex
X-PUBLISHED-TTL:PT1H
BEGIN:VTIMEZONE
TZID:America/Vancouver
BEGIN:DAYLIGHT
TZOFFSETFROM:-0800
TZOFFSETTO:-0700
TZNAME:PDT
DTSTART:20240310T100000
END:DAYLIGHT
BEGIN:STANDARD
TZOFFSETFROM:-0700
TZOFFSETTO:-0800
TZNAME:PST
DTSTART:20241103T090000
END:STANDARD
BEGIN:DAYLIGHT
TZOFFSETFROM:-0800
TZOFFSETTO:-0700
TZNAME:PDT
DTSTART:20250309T100000
END:DAYLIGHT
BEGIN:STANDARD
TZOFFSETFROM:-0700
TZOFFSETTO:-0800
TZNAME:PST
DTSTART:20251102T090000
END:STANDARD
BEGIN:DAYLIGHT
TZOFFSETFROM:-0800
TZOFFSETTO:-0700
TZNAME:PDT
DTSTART:20260308T100000
END:DAYLIGHT
BEGIN:STANDARD
TZOFFSETFROM:-0700
TZOFFSETTO:-0800
TZNAME:PST
DTSTART:20261101T090000
END:STANDARD
END:VTIMEZONE
BEGIN:VEVENT
DTSTART;TZID=America/Vancouver:20250401T100000
DTEND;TZID=America/Vancouver:20250401T120000
DTSTAMP:20260424T095631
CREATED:20250223T213339Z
LAST-MODIFIED:20250223T213339Z
UID:4358-1743501600-1743508800@www.crgenealogysociety.ca
SUMMARY:Library Open
DESCRIPTION:
URL:https://www.crgenealogysociety.ca/events/library-open-12/
END:VEVENT
BEGIN:VEVENT
DTSTART;TZID=America/Vancouver:20250402T100000
DTEND;TZID=America/Vancouver:20250402T140000
DTSTAMP:20260424T095631
CREATED:20250223T213927Z
LAST-MODIFIED:20250223T213927Z
UID:4370-1743588000-1743602400@www.crgenealogysociety.ca
SUMMARY:Library Open
DESCRIPTION:
URL:https://www.crgenealogysociety.ca/events/library-open-16/
LOCATION:Maritime Heritage Centre\, 621 Island Hwy\, Campbell River\, British Columbia\, Canada
END:VEVENT
BEGIN:VEVENT
DTSTART;TZID=America/Vancouver:20250403T183000
DTEND;TZID=America/Vancouver:20250403T210000
DTSTAMP:20260424T095631
CREATED:20250223T214359Z
LAST-MODIFIED:20250223T214359Z
UID:4372-1743705000-1743714000@www.crgenealogysociety.ca
SUMMARY:**Regular Meeting** 7-9 PM Details Click Here
DESCRIPTION:This will be a Hybrid Event. Doors open at 6:30 PM – Meeting at 7 \nAt the Maritime Heritage Centre by the Pier \n\nEducation Feature Speakers: Christine Dickinson\n\n\n\nChristine will present Pioneer families in the Comox Valley\n\n\n\n\n\nThe public is welcome! \nTo receive your personal invite click Here \nThe Doors will be open at 6:30 for Social Time before the meeting.
URL:https://www.crgenealogysociety.ca/events/regular-meeting-7-9-pm-details-click-here-15/
LOCATION:Maritime Heritage Centre\, 621 Island Hwy\, Campbell River\, British Columbia\, Canada
ORGANIZER;CN="Campbell River Genealogy Society":MAILTO:crgenealogy@shaw.ca
END:VEVENT
BEGIN:VEVENT
DTSTART;TZID=America/Vancouver:20250405T100000
DTEND;TZID=America/Vancouver:20250405T160000
DTSTAMP:20260424T095631
CREATED:20250402T214555Z
LAST-MODIFIED:20250402T230653Z
UID:4526-1743847200-1743868800@www.crgenealogysociety.ca
SUMMARY:Spring Bake Sale
DESCRIPTION:Campbell River Community Centre 10 AM – 4 PM. \nDrop by and say Hi !
URL:https://www.crgenealogysociety.ca/events/spring-bake-sale/
END:VEVENT
BEGIN:VEVENT
DTSTART;TZID=America/Vancouver:20250407T130000
DTEND;TZID=America/Vancouver:20250407T150000
DTSTAMP:20260424T095631
CREATED:20250402T205511Z
LAST-MODIFIED:20250402T205511Z
UID:4517-1744030800-1744038000@www.crgenealogysociety.ca
SUMMARY:Librarians' Orientation
DESCRIPTION:
URL:https://www.crgenealogysociety.ca/events/librarians-orientation/
END:VEVENT
BEGIN:VEVENT
DTSTART;TZID=America/Vancouver:20250408T100000
DTEND;TZID=America/Vancouver:20250408T120000
DTSTAMP:20260424T095631
CREATED:20250223T213843Z
LAST-MODIFIED:20250223T213843Z
UID:4368-1744106400-1744113600@www.crgenealogysociety.ca
SUMMARY:Library Open
DESCRIPTION:
URL:https://www.crgenealogysociety.ca/events/library-open-15/
END:VEVENT
BEGIN:VEVENT
DTSTART;TZID=America/Vancouver:20250409T100000
DTEND;TZID=America/Vancouver:20250409T150000
DTSTAMP:20260424T095631
CREATED:20250223T213455Z
LAST-MODIFIED:20250223T213455Z
UID:4360-1744192800-1744210800@www.crgenealogysociety.ca
SUMMARY:Library Open + G&T
DESCRIPTION:
URL:https://www.crgenealogysociety.ca/events/library-open-gt-2/
LOCATION:Maritime Heritage Centre\, 621 Island Hwy\, Campbell River\, British Columbia\, Canada
END:VEVENT
BEGIN:VEVENT
DTSTART;TZID=America/Vancouver:20250410T183000
DTEND;TZID=America/Vancouver:20250410T200000
DTSTAMP:20260424T095631
CREATED:20250402T204628Z
LAST-MODIFIED:20250402T204628Z
UID:4501-1744309800-1744315200@www.crgenealogysociety.ca
SUMMARY:Library Open
DESCRIPTION:
URL:https://www.crgenealogysociety.ca/events/library-open-17/
END:VEVENT
BEGIN:VEVENT
DTSTART;TZID=America/Vancouver:20250414T130000
DTEND;TZID=America/Vancouver:20250414T150000
DTSTAMP:20260424T095631
CREATED:20250402T212052Z
LAST-MODIFIED:20250402T212052Z
UID:4519-1744635600-1744642800@www.crgenealogysociety.ca
SUMMARY:Workshop - Excel - In Person Only
DESCRIPTION:Excel Workshop – Learn Microsoft Office 365 Excel \nJoin us for an in-person workshop on Excel\, taking place at the Library \nThis workshop is designed to help you learn the fundamentals of Microsoft Office 365 Excel and enhance your spreadsheet skills. \n\nHands-on practice with provided spreadsheets\nFocus exclusively on Microsoft Office 365 Excel\nNo discussions on other data entry formats\n\n\nSign up early class size is limited to 10\nA fee of $5 will be in effect. Pay in person or by e-Transfer to crgstreasurer@gmail.com\nRegistration by email to Darlene darry01@telus.net\nDon’t miss this opportunity to improve your Excel skills!
URL:https://www.crgenealogysociety.ca/events/workshop-excel-in-person-only/
END:VEVENT
BEGIN:VEVENT
DTSTART;TZID=America/Vancouver:20250415T100000
DTEND;TZID=America/Vancouver:20250415T120000
DTSTAMP:20260424T095631
CREATED:20250402T205028Z
LAST-MODIFIED:20250402T205028Z
UID:4505-1744711200-1744718400@www.crgenealogysociety.ca
SUMMARY:Library Open
DESCRIPTION:
URL:https://www.crgenealogysociety.ca/events/library-open-19/
END:VEVENT
BEGIN:VEVENT
DTSTART;TZID=America/Vancouver:20250416T100000
DTEND;TZID=America/Vancouver:20250416T140000
DTSTAMP:20260424T095631
CREATED:20250402T205210Z
LAST-MODIFIED:20250402T205210Z
UID:4511-1744797600-1744812000@www.crgenealogysociety.ca
SUMMARY:Library Open
DESCRIPTION:
URL:https://www.crgenealogysociety.ca/events/library-open-22/
LOCATION:Maritime Heritage Centre\, 621 Island Hwy\, Campbell River\, British Columbia\, Canada
END:VEVENT
BEGIN:VEVENT
DTSTART;TZID=America/Vancouver:20250421T130000
DTEND;TZID=America/Vancouver:20250421T140000
DTSTAMP:20260424T095631
CREATED:20250402T212417Z
LAST-MODIFIED:20250402T212417Z
UID:4521-1745240400-1745244000@www.crgenealogysociety.ca
SUMMARY:Library Committee Meeting (Closed to visitors)
DESCRIPTION:
URL:https://www.crgenealogysociety.ca/events/library-committee-meeting-closed-to-visitors-2/
LOCATION:Maritime Heritage Centre\, 621 Island Hwy\, Campbell River\, British Columbia\, Canada
END:VEVENT
BEGIN:VEVENT
DTSTART;TZID=America/Vancouver:20250422T100000
DTEND;TZID=America/Vancouver:20250422T120000
DTSTAMP:20260424T095631
CREATED:20250402T205058Z
LAST-MODIFIED:20250402T205058Z
UID:4507-1745316000-1745323200@www.crgenealogysociety.ca
SUMMARY:Library Open
DESCRIPTION:
URL:https://www.crgenealogysociety.ca/events/library-open-20/
END:VEVENT
BEGIN:VEVENT
DTSTART;TZID=America/Vancouver:20250423T100000
DTEND;TZID=America/Vancouver:20250423T140000
DTSTAMP:20260424T095631
CREATED:20250402T205230Z
LAST-MODIFIED:20250402T205230Z
UID:4513-1745402400-1745416800@www.crgenealogysociety.ca
SUMMARY:Library Open
DESCRIPTION:
URL:https://www.crgenealogysociety.ca/events/library-open-23/
LOCATION:Maritime Heritage Centre\, 621 Island Hwy\, Campbell River\, British Columbia\, Canada
END:VEVENT
BEGIN:VEVENT
DTSTART;TZID=America/Vancouver:20250424T183000
DTEND;TZID=America/Vancouver:20250424T200000
DTSTAMP:20260424T095631
CREATED:20250402T204816Z
LAST-MODIFIED:20250402T204816Z
UID:4503-1745519400-1745524800@www.crgenealogysociety.ca
SUMMARY:Library Open
DESCRIPTION:
URL:https://www.crgenealogysociety.ca/events/library-open-18/
END:VEVENT
BEGIN:VEVENT
DTSTART;TZID=America/Vancouver:20250429T100000
DTEND;TZID=America/Vancouver:20250429T120000
DTSTAMP:20260424T095631
CREATED:20250402T205121Z
LAST-MODIFIED:20250402T205121Z
UID:4509-1745920800-1745928000@www.crgenealogysociety.ca
SUMMARY:Library Open
DESCRIPTION:
URL:https://www.crgenealogysociety.ca/events/library-open-21/
END:VEVENT
BEGIN:VEVENT
DTSTART;TZID=America/Vancouver:20250430T100000
DTEND;TZID=America/Vancouver:20250430T140000
DTSTAMP:20260424T095631
CREATED:20250402T205255Z
LAST-MODIFIED:20250402T205255Z
UID:4515-1746007200-1746021600@www.crgenealogysociety.ca
SUMMARY:Library Open
DESCRIPTION:
URL:https://www.crgenealogysociety.ca/events/library-open-24/
LOCATION:Maritime Heritage Centre\, 621 Island Hwy\, Campbell River\, British Columbia\, Canada
END:VEVENT
END:VCALENDAR