BEGIN:VCALENDAR
VERSION:2.0
PRODID:-//Campbell River Genealogy Society - ECPv6.15.20//NONSGML v1.0//EN
CALSCALE:GREGORIAN
METHOD:PUBLISH
X-ORIGINAL-URL:https://www.crgenealogysociety.ca
X-WR-CALDESC:Events for Campbell River Genealogy Society
REFRESH-INTERVAL;VALUE=DURATION:PT1H
X-Robots-Tag:noindex
X-PUBLISHED-TTL:PT1H
BEGIN:VTIMEZONE
TZID:America/Vancouver
BEGIN:DAYLIGHT
TZOFFSETFROM:-0800
TZOFFSETTO:-0700
TZNAME:PDT
DTSTART:20240310T100000
END:DAYLIGHT
BEGIN:STANDARD
TZOFFSETFROM:-0700
TZOFFSETTO:-0800
TZNAME:PST
DTSTART:20241103T090000
END:STANDARD
BEGIN:DAYLIGHT
TZOFFSETFROM:-0800
TZOFFSETTO:-0700
TZNAME:PDT
DTSTART:20250309T100000
END:DAYLIGHT
BEGIN:STANDARD
TZOFFSETFROM:-0700
TZOFFSETTO:-0800
TZNAME:PST
DTSTART:20251102T090000
END:STANDARD
BEGIN:DAYLIGHT
TZOFFSETFROM:-0800
TZOFFSETTO:-0700
TZNAME:PDT
DTSTART:20260308T100000
END:DAYLIGHT
BEGIN:STANDARD
TZOFFSETFROM:-0700
TZOFFSETTO:-0800
TZNAME:PST
DTSTART:20261101T090000
END:STANDARD
END:VTIMEZONE
BEGIN:VEVENT
DTSTART;TZID=America/Vancouver:20250304T100000
DTEND;TZID=America/Vancouver:20250304T120000
DTSTAMP:20260424T113622
CREATED:20250131T213929Z
LAST-MODIFIED:20250131T213929Z
UID:4301-1741082400-1741089600@www.crgenealogysociety.ca
SUMMARY:Library Open
DESCRIPTION:
URL:https://www.crgenealogysociety.ca/events/library-open-5/
END:VEVENT
BEGIN:VEVENT
DTSTART;TZID=America/Vancouver:20250305T100000
DTEND;TZID=America/Vancouver:20250305T140000
DTSTAMP:20260424T113622
CREATED:20250223T211326Z
LAST-MODIFIED:20250223T211326Z
UID:4342-1741168800-1741183200@www.crgenealogysociety.ca
SUMMARY:Library Open
DESCRIPTION:
URL:https://www.crgenealogysociety.ca/events/library-open-9/
LOCATION:Maritime Heritage Centre\, 621 Island Hwy\, Campbell River\, British Columbia\, Canada
END:VEVENT
BEGIN:VEVENT
DTSTART;TZID=America/Vancouver:20250306T100000
DTEND;TZID=America/Vancouver:20250306T120000
DTSTAMP:20260424T113622
CREATED:20250223T213022Z
LAST-MODIFIED:20250223T213022Z
UID:4346-1741255200-1741262400@www.crgenealogysociety.ca
SUMMARY:Cleaning (Closed to visitors)
DESCRIPTION:
URL:https://www.crgenealogysociety.ca/events/cleaning-closed-to-visitors-5/
END:VEVENT
BEGIN:VEVENT
DTSTART;TZID=America/Vancouver:20250306T183000
DTEND;TZID=America/Vancouver:20250306T210000
DTSTAMP:20260424T113622
CREATED:20250106T135106Z
LAST-MODIFIED:20250222T234214Z
UID:4224-1741285800-1741294800@www.crgenealogysociety.ca
SUMMARY:**Regular Meeting** 7-9 PM Details Click Here
DESCRIPTION:This will be a Hybrid Event. Doors open at 6:30 PM – Meeting at 7 \nAt the Maritime Heritage Centre by the Pier \n\nEducation Feature Speakers: Members\n\n\n\nRobert S: Artificial Intelligence Experiences\nHarry W: Creating a timeline spreadsheet\nJanice W: Putting together 3 families – sharing the adventure\nCandy-Lea C: Artificial Intelligence\, Real Family: A Genealogy Case Study\n\n\n\n\n\nThe public is welcome! \nTo receive your personal invite click Here \nThe Doors will be open at 6:30 for Social Time before the meeting.
URL:https://www.crgenealogysociety.ca/events/regular-meeting-7-9-pm-details-click-here-3/
LOCATION:Maritime Heritage Centre\, 621 Island Hwy\, Campbell River\, British Columbia\, Canada
ORGANIZER;CN="Campbell River Genealogy Society":MAILTO:crgenealogy@shaw.ca
END:VEVENT
BEGIN:VEVENT
DTSTART;TZID=America/Vancouver:20250310T133000
DTEND;TZID=America/Vancouver:20250310T153000
DTSTAMP:20260424T113622
CREATED:20250223T210708Z
LAST-MODIFIED:20250223T210708Z
UID:4336-1741613400-1741620600@www.crgenealogysociety.ca
SUMMARY:Workshop - WikiTree
DESCRIPTION:Topic: Creating a person profile\nFollow along as we look at some basics of a WikiTree profile page. \nThis is a Hybrid Event:\nIn Person: In the CRGS Library\, arrive early to get their devices set up and logged in.  \nBy Zoom Click Here to Register for your Zoom Link. In order to work along at home a split screen\, two screens\, or two devices is recommended. That way you can see the demo and work on your own profile. \nDonations of $5 for members in person or by eTransfer to crgstreasurer@gmail.com\nNon-members $5 fee by eTransfer please.
URL:https://www.crgenealogysociety.ca/events/workshop-wikitree/
END:VEVENT
BEGIN:VEVENT
DTSTART;TZID=America/Vancouver:20250311T100000
DTEND;TZID=America/Vancouver:20250311T120000
DTSTAMP:20260424T113622
CREATED:20250223T211135Z
LAST-MODIFIED:20250223T211206Z
UID:4340-1741687200-1741694400@www.crgenealogysociety.ca
SUMMARY:Library Open
DESCRIPTION:
URL:https://www.crgenealogysociety.ca/events/library-open-8/
END:VEVENT
BEGIN:VEVENT
DTSTART;TZID=America/Vancouver:20250312T100000
DTEND;TZID=America/Vancouver:20250312T150000
DTSTAMP:20260424T113622
CREATED:20250223T210844Z
LAST-MODIFIED:20250223T210844Z
UID:4338-1741773600-1741791600@www.crgenealogysociety.ca
SUMMARY:Library Open + G&T
DESCRIPTION:
URL:https://www.crgenealogysociety.ca/events/library-open-gt/
LOCATION:Maritime Heritage Centre\, 621 Island Hwy\, Campbell River\, British Columbia\, Canada
END:VEVENT
BEGIN:VEVENT
DTSTART;TZID=America/Vancouver:20250313T100000
DTEND;TZID=America/Vancouver:20250313T120000
DTSTAMP:20260424T113622
CREATED:20250223T213053Z
LAST-MODIFIED:20250223T213053Z
UID:4347-1741860000-1741867200@www.crgenealogysociety.ca
SUMMARY:Cleaning (Closed to visitors)
DESCRIPTION:
URL:https://www.crgenealogysociety.ca/events/cleaning-closed-to-visitors-6/
END:VEVENT
BEGIN:VEVENT
DTSTART;TZID=America/Vancouver:20250318T100000
DTEND;TZID=America/Vancouver:20250318T120000
DTSTAMP:20260424T113622
CREATED:20250223T213256Z
LAST-MODIFIED:20250223T213256Z
UID:4354-1742292000-1742299200@www.crgenealogysociety.ca
SUMMARY:Library Open
DESCRIPTION:
URL:https://www.crgenealogysociety.ca/events/library-open-10/
END:VEVENT
BEGIN:VEVENT
DTSTART;TZID=America/Vancouver:20250319T100000
DTEND;TZID=America/Vancouver:20250319T140000
DTSTAMP:20260424T113622
CREATED:20250223T213555Z
LAST-MODIFIED:20250223T213555Z
UID:4362-1742378400-1742392800@www.crgenealogysociety.ca
SUMMARY:Library Open
DESCRIPTION:
URL:https://www.crgenealogysociety.ca/events/library-open-13/
LOCATION:Maritime Heritage Centre\, 621 Island Hwy\, Campbell River\, British Columbia\, Canada
END:VEVENT
BEGIN:VEVENT
DTSTART;TZID=America/Vancouver:20250320T100000
DTEND;TZID=America/Vancouver:20250320T120000
DTSTAMP:20260424T113622
CREATED:20250223T213118Z
LAST-MODIFIED:20250223T213118Z
UID:4348-1742464800-1742472000@www.crgenealogysociety.ca
SUMMARY:Cleaning (Closed to visitors)
DESCRIPTION:
URL:https://www.crgenealogysociety.ca/events/cleaning-closed-to-visitors-7/
END:VEVENT
BEGIN:VEVENT
DTSTART;TZID=America/Vancouver:20250324T180000
DTEND;TZID=America/Vancouver:20250324T190000
DTSTAMP:20260424T113622
CREATED:20250223T213721Z
LAST-MODIFIED:20250223T213721Z
UID:4366-1742839200-1742842800@www.crgenealogysociety.ca
SUMMARY:Board Meeting (Zoom only)
DESCRIPTION:Library is Closed
URL:https://www.crgenealogysociety.ca/events/board-meeting-zoom-only-2/
END:VEVENT
BEGIN:VEVENT
DTSTART;TZID=America/Vancouver:20250325T100000
DTEND;TZID=America/Vancouver:20250325T120000
DTSTAMP:20260424T113622
CREATED:20250223T213320Z
LAST-MODIFIED:20250223T213320Z
UID:4356-1742896800-1742904000@www.crgenealogysociety.ca
SUMMARY:Library Open
DESCRIPTION:
URL:https://www.crgenealogysociety.ca/events/library-open-11/
END:VEVENT
BEGIN:VEVENT
DTSTART;TZID=America/Vancouver:20250326T100000
DTEND;TZID=America/Vancouver:20250326T140000
DTSTAMP:20260424T113622
CREATED:20250223T213612Z
LAST-MODIFIED:20250223T213612Z
UID:4364-1742983200-1742997600@www.crgenealogysociety.ca
SUMMARY:Library Open
DESCRIPTION:
URL:https://www.crgenealogysociety.ca/events/library-open-14/
LOCATION:Maritime Heritage Centre\, 621 Island Hwy\, Campbell River\, British Columbia\, Canada
END:VEVENT
BEGIN:VEVENT
DTSTART;TZID=America/Vancouver:20250327T100000
DTEND;TZID=America/Vancouver:20250327T120000
DTSTAMP:20260424T113622
CREATED:20250223T213153Z
LAST-MODIFIED:20250223T213153Z
UID:4352-1743069600-1743076800@www.crgenealogysociety.ca
SUMMARY:Cleaning (Closed to visitors)
DESCRIPTION:
URL:https://www.crgenealogysociety.ca/events/cleaning-closed-to-visitors-8/
END:VEVENT
BEGIN:VEVENT
DTSTART;TZID=America/Vancouver:20250327T133000
DTEND;TZID=America/Vancouver:20250327T153000
DTSTAMP:20260424T113622
CREATED:20250223T210025Z
LAST-MODIFIED:20250223T210025Z
UID:4334-1743082200-1743089400@www.crgenealogysociety.ca
SUMMARY:Special Interests Group - DNA
DESCRIPTION:This is a DNA focused session: What to do with a match group \nIn this session we will work on a cluster to try to find the (MRCA) Most Recent Common Ancestor or Ancestral Couple that ties the cluster together. We’ll be using trees and other various techniques. \nPlease note: the start time is 1:30 PM \nHybrid Event: In person at the CRGS Library or by Zoom\nZoom Registration Link\nSuggested Donations $5 per member in person or by eTransfer to crgstreasurer@gmail.com\nNon-Members pay $5 fee per session. \nIf there is a genealogy related topic that you would like covered\, please email Christol.
URL:https://www.crgenealogysociety.ca/events/special-interests-group-dna-2/
END:VEVENT
END:VCALENDAR