BEGIN:VCALENDAR
VERSION:2.0
PRODID:-//Campbell River Genealogy Society - ECPv6.15.20//NONSGML v1.0//EN
CALSCALE:GREGORIAN
METHOD:PUBLISH
X-WR-CALNAME:Campbell River Genealogy Society
X-ORIGINAL-URL:https://www.crgenealogysociety.ca
X-WR-CALDESC:Events for Campbell River Genealogy Society
REFRESH-INTERVAL;VALUE=DURATION:PT1H
X-Robots-Tag:noindex
X-PUBLISHED-TTL:PT1H
BEGIN:VTIMEZONE
TZID:America/Vancouver
BEGIN:DAYLIGHT
TZOFFSETFROM:-0800
TZOFFSETTO:-0700
TZNAME:PDT
DTSTART:20240310T100000
END:DAYLIGHT
BEGIN:STANDARD
TZOFFSETFROM:-0700
TZOFFSETTO:-0800
TZNAME:PST
DTSTART:20241103T090000
END:STANDARD
BEGIN:DAYLIGHT
TZOFFSETFROM:-0800
TZOFFSETTO:-0700
TZNAME:PDT
DTSTART:20250309T100000
END:DAYLIGHT
BEGIN:STANDARD
TZOFFSETFROM:-0700
TZOFFSETTO:-0800
TZNAME:PST
DTSTART:20251102T090000
END:STANDARD
BEGIN:DAYLIGHT
TZOFFSETFROM:-0800
TZOFFSETTO:-0700
TZNAME:PDT
DTSTART:20260308T100000
END:DAYLIGHT
BEGIN:STANDARD
TZOFFSETFROM:-0700
TZOFFSETTO:-0800
TZNAME:PST
DTSTART:20261101T090000
END:STANDARD
END:VTIMEZONE
BEGIN:VEVENT
DTSTART;TZID=America/Vancouver:20250204T100000
DTEND;TZID=America/Vancouver:20250204T120000
DTSTAMP:20260424T130451
CREATED:20250131T212822Z
LAST-MODIFIED:20250131T212908Z
UID:4291-1738663200-1738670400@www.crgenealogysociety.ca
SUMMARY:Library Open
DESCRIPTION:
URL:https://www.crgenealogysociety.ca/events/library-open-10am-to-12pm/
END:VEVENT
BEGIN:VEVENT
DTSTART;TZID=America/Vancouver:20250205T100000
DTEND;TZID=America/Vancouver:20250205T140000
DTSTAMP:20260424T130451
CREATED:20250131T213020Z
LAST-MODIFIED:20250131T213020Z
UID:4294-1738749600-1738764000@www.crgenealogysociety.ca
SUMMARY:Library Open
DESCRIPTION:
URL:https://www.crgenealogysociety.ca/events/library-open/
LOCATION:Maritime Heritage Centre\, 621 Island Hwy\, Campbell River\, British Columbia\, Canada
END:VEVENT
BEGIN:VEVENT
DTSTART;TZID=America/Vancouver:20250206T100000
DTEND;TZID=America/Vancouver:20250206T120000
DTSTAMP:20260424T130451
CREATED:20250131T212621Z
LAST-MODIFIED:20250131T212621Z
UID:4287-1738836000-1738843200@www.crgenealogysociety.ca
SUMMARY:Cleaning (Closed to visitors)
DESCRIPTION:
URL:https://www.crgenealogysociety.ca/events/cleaning-closed-to-visitors/
END:VEVENT
BEGIN:VEVENT
DTSTART;TZID=America/Vancouver:20250206T183000
DTEND;TZID=America/Vancouver:20250206T210000
DTSTAMP:20260424T130451
CREATED:20250106T150019Z
LAST-MODIFIED:20250122T005321Z
UID:4247-1738866600-1738875600@www.crgenealogysociety.ca
SUMMARY:**Regular Meeting** 7-9 PM Details Click Here
DESCRIPTION:This will be a Hybrid Event. Doors open at 6:30 PM – Meeting at 7 \nAt the Maritime Heritage Centre by the Pier \n\nAGM\nEducational Feature Speaker: Dave Obee\n\nPassing It Forward: How to Engage the Younger Generation(s) We’ve been working on our family history for years\, if not decades\, and we know that can’t go on forever. We don’t want all of our work to go to waste\, so we need to find a way to make it accessible for others. It would be even better if we could find younger relatives to carry on our research. How do we inspire them so they share out passion for family history? And then\, how do we get their knowledge up to speed so any research they do will be accurate and reliable? This session will give a few ideas so we can find someone in the next generation\, or the generation after that\, and pass the torch to them with confidence. See Dave’s website  \nThe public is welcome! \nTo receive your link please Register Here. \nTo receive a link to join please  \nThe Doors will be open at 6:30 for Social Time before the meeting.
URL:https://www.crgenealogysociety.ca/events/regular-meeting-7-9-pm-details-click-here-14/
LOCATION:Maritime Heritage Centre\, 621 Island Hwy\, Campbell River\, British Columbia\, Canada
ORGANIZER;CN="Campbell River Genealogy Society":MAILTO:crgenealogy@shaw.ca
END:VEVENT
BEGIN:VEVENT
DTSTART;TZID=America/Vancouver:20250208T130000
DTEND;TZID=America/Vancouver:20250208T153000
DTSTAMP:20260424T130451
CREATED:20250106T143458Z
LAST-MODIFIED:20250131T210057Z
UID:4240-1739019600-1739028600@www.crgenealogysociety.ca
SUMMARY:DNA Class Series - Genetic Genealogy
DESCRIPTION:This is the third class in the 4 class series. \nIt is strongly recommended that you have attended at least the first class.  \nThis class will: \n\nReview any questions from previous sessions.\nLook at your My Heritage Results:\n\nWhat is there\nSorting and working with your match list\n\nThe  next classe:\nFebruary 22 Creating research trees. Communicating with your matches. \nSeries details: \nMust Register to Attend. $5 per class (eTransfer or in Person)\nIn Person Only\nLimit of 8 registrants\n\nTo register contact Christol
URL:https://www.crgenealogysociety.ca/events/dna-class-series-genetic-genealogy-2/
END:VEVENT
BEGIN:VEVENT
DTSTART;TZID=America/Vancouver:20250211T130000
DTEND;TZID=America/Vancouver:20250211T140000
DTSTAMP:20260424T130451
CREATED:20250131T210513Z
LAST-MODIFIED:20250131T212507Z
UID:4282-1739278800-1739282400@www.crgenealogysociety.ca
SUMMARY:Library Committee Meeting (Closed to visitors)
DESCRIPTION:
URL:https://www.crgenealogysociety.ca/events/library-committee-meeting/
LOCATION:Maritime Heritage Centre\, 621 Island Hwy\, Campbell River\, British Columbia\, Canada
END:VEVENT
BEGIN:VEVENT
DTSTART;TZID=America/Vancouver:20250212T100000
DTEND;TZID=America/Vancouver:20250212T150000
DTSTAMP:20260424T130451
CREATED:20250131T213207Z
LAST-MODIFIED:20250131T213300Z
UID:4296-1739354400-1739372400@www.crgenealogysociety.ca
SUMMARY:Library Open + G&T
DESCRIPTION:
URL:https://www.crgenealogysociety.ca/events/library-open-2/
LOCATION:Maritime Heritage Centre\, 621 Island Hwy\, Campbell River\, British Columbia\, Canada
END:VEVENT
BEGIN:VEVENT
DTSTART;TZID=America/Vancouver:20250213T100000
DTEND;TZID=America/Vancouver:20250213T120000
DTSTAMP:20260424T130451
CREATED:20250131T213713Z
LAST-MODIFIED:20250206T233732Z
UID:4304-1739440800-1739448000@www.crgenealogysociety.ca
SUMMARY:Cleaning (Closed in AM)
DESCRIPTION:
URL:https://www.crgenealogysociety.ca/events/cleaning-closed-to-visitors-2/
END:VEVENT
BEGIN:VEVENT
DTSTART;TZID=America/Vancouver:20250213T130000
DTEND;TZID=America/Vancouver:20250213T150000
DTSTAMP:20260424T130451
CREATED:20250206T233524Z
LAST-MODIFIED:20250206T233647Z
UID:4316-1739451600-1739458800@www.crgenealogysociety.ca
SUMMARY:Workshop - Genealogy Q & A
DESCRIPTION:This session: Bring your laptop\, tablet\, tree\, …\nTopic: Genealogy Q & A where you can put your question out to the group and hopefully get a little help finding the answer. It can be anything if it’s related to genealogy. Maybe you can help others too. \nThis is a Hybrid Event: \nAttendees to the CRGS Library should arrive early to get their devices set up and logged in.\nRegister to get your Zoom Link  \nDonations of $5 for members in person or by eTransfer to crgstreasurer@gmail.com\nNon-members $5 fee by eTransfer please.
URL:https://www.crgenealogysociety.ca/events/workshop-genealogy-q-a/
END:VEVENT
BEGIN:VEVENT
DTSTART;TZID=America/Vancouver:20250217T130000
DTEND;TZID=America/Vancouver:20250217T140000
DTSTAMP:20260424T130451
CREATED:20250223T212628Z
LAST-MODIFIED:20250223T212628Z
UID:4344-1739797200-1739800800@www.crgenealogysociety.ca
SUMMARY:Library Committee Meeting (Closed to visitors)
DESCRIPTION:
URL:https://www.crgenealogysociety.ca/events/library-committee-meeting-closed-to-visitors/
LOCATION:Maritime Heritage Centre\, 621 Island Hwy\, Campbell River\, British Columbia\, Canada
END:VEVENT
BEGIN:VEVENT
DTSTART;TZID=America/Vancouver:20250218T100000
DTEND;TZID=America/Vancouver:20250218T120000
DTSTAMP:20260424T130451
CREATED:20250131T213408Z
LAST-MODIFIED:20250131T213538Z
UID:4299-1739872800-1739880000@www.crgenealogysociety.ca
SUMMARY:Library Open
DESCRIPTION:
URL:https://www.crgenealogysociety.ca/events/library-open-3/
END:VEVENT
BEGIN:VEVENT
DTSTART;TZID=America/Vancouver:20250219T100000
DTEND;TZID=America/Vancouver:20250219T140000
DTSTAMP:20260424T130451
CREATED:20250131T214005Z
LAST-MODIFIED:20250131T214005Z
UID:4310-1739959200-1739973600@www.crgenealogysociety.ca
SUMMARY:Library Open
DESCRIPTION:
URL:https://www.crgenealogysociety.ca/events/library-open-6/
LOCATION:Maritime Heritage Centre\, 621 Island Hwy\, Campbell River\, British Columbia\, Canada
END:VEVENT
BEGIN:VEVENT
DTSTART;TZID=America/Vancouver:20250220T100000
DTEND;TZID=America/Vancouver:20250220T120000
DTSTAMP:20260424T130451
CREATED:20250131T213742Z
LAST-MODIFIED:20250131T213742Z
UID:4306-1740045600-1740052800@www.crgenealogysociety.ca
SUMMARY:Cleaning (Closed to visitors)
DESCRIPTION:
URL:https://www.crgenealogysociety.ca/events/cleaning-closed-to-visitors-3/
END:VEVENT
BEGIN:VEVENT
DTSTART;TZID=America/Vancouver:20250224T180000
DTEND;TZID=America/Vancouver:20250224T190000
DTSTAMP:20260424T130451
CREATED:20250131T212725Z
LAST-MODIFIED:20250131T212725Z
UID:4289-1740420000-1740423600@www.crgenealogysociety.ca
SUMMARY:Board Meeting (Zoom only)
DESCRIPTION:Library is Closed
URL:https://www.crgenealogysociety.ca/events/board-meeting-zoom-only/
END:VEVENT
BEGIN:VEVENT
DTSTART;TZID=America/Vancouver:20250225T100000
DTEND;TZID=America/Vancouver:20250225T120000
DTSTAMP:20260424T130451
CREATED:20250131T213600Z
LAST-MODIFIED:20250131T213600Z
UID:4302-1740477600-1740484800@www.crgenealogysociety.ca
SUMMARY:Library Open
DESCRIPTION:
URL:https://www.crgenealogysociety.ca/events/library-open-4/
END:VEVENT
BEGIN:VEVENT
DTSTART;TZID=America/Vancouver:20250226T100000
DTEND;TZID=America/Vancouver:20250226T140000
DTSTAMP:20260424T130451
CREATED:20250131T214029Z
LAST-MODIFIED:20250131T214029Z
UID:4313-1740564000-1740578400@www.crgenealogysociety.ca
SUMMARY:Library Open
DESCRIPTION:
URL:https://www.crgenealogysociety.ca/events/library-open-7/
LOCATION:Maritime Heritage Centre\, 621 Island Hwy\, Campbell River\, British Columbia\, Canada
END:VEVENT
BEGIN:VEVENT
DTSTART;TZID=America/Vancouver:20250227T100000
DTEND;TZID=America/Vancouver:20250227T120000
DTSTAMP:20260424T130451
CREATED:20250131T213803Z
LAST-MODIFIED:20250131T213803Z
UID:4308-1740650400-1740657600@www.crgenealogysociety.ca
SUMMARY:Cleaning (Closed to visitors)
DESCRIPTION:
URL:https://www.crgenealogysociety.ca/events/cleaning-closed-to-visitors-4/
END:VEVENT
BEGIN:VEVENT
DTSTART;TZID=America/Vancouver:20250227T133000
DTEND;TZID=America/Vancouver:20250227T153000
DTSTAMP:20260424T130451
CREATED:20250222T230136Z
LAST-MODIFIED:20250222T230136Z
UID:4328-1740663000-1740670200@www.crgenealogysociety.ca
SUMMARY:Special Interests Group - DNA
DESCRIPTION:This is a DNA focused session: Sorting your DNA matches into clusters. \nChristol will show two methods of sorting your DNA match list into genetic networks or match groups. This will look at the Leeds Method and the Best Match Method. Handouts will be provided by email for those who attend. \nPlease note: the start time is 1:30 PM \nHybrid Event: In person at the CRGS Library or by Zoom\nZoom Registration Link\nSuggested Donations $5 per member in person or by eTransfer to crgstreasurer@gmail.com\nNon-Members pay $5 fee per session. \nIf there is a genealogy related topic that you would like covered\, please email Christol.
URL:https://www.crgenealogysociety.ca/events/special-interests-group-dna/
END:VEVENT
BEGIN:VEVENT
DTSTART;TZID=America/Vancouver:20250228T110000
DTEND;TZID=America/Vancouver:20250228T133000
DTSTAMP:20260424T130451
CREATED:20250106T144010Z
LAST-MODIFIED:20250222T223705Z
UID:4242-1740740400-1740749400@www.crgenealogysociety.ca
SUMMARY:DNA Class Series - Genetic Genealogy
DESCRIPTION:This is the last class in the 4 class series. \nIt is strongly recommended that you have attended at least the first class and one of the DNA site classes. \nThis class will: \n\nReview any questions from previous sessions.\nBegin solving mysteries by:\n\nCreating research trees.\nCommunicating with your matches.\n\nSeries details: \nMust Register to Attend. $5 per class (eTransfer or in Person)\nIn Person Only\nLimit of 8 registrants\n\nTo register contact Christol
URL:https://www.crgenealogysociety.ca/events/dna-class-series-genetic-genealogy-3/
END:VEVENT
END:VCALENDAR