BEGIN:VCALENDAR
VERSION:2.0
PRODID:-//Campbell River Genealogy Society - ECPv6.15.20//NONSGML v1.0//EN
CALSCALE:GREGORIAN
METHOD:PUBLISH
X-WR-CALNAME:Campbell River Genealogy Society
X-ORIGINAL-URL:https://www.crgenealogysociety.ca
X-WR-CALDESC:Events for Campbell River Genealogy Society
REFRESH-INTERVAL;VALUE=DURATION:PT1H
X-Robots-Tag:noindex
X-PUBLISHED-TTL:PT1H
BEGIN:VTIMEZONE
TZID:America/Vancouver
BEGIN:DAYLIGHT
TZOFFSETFROM:-0800
TZOFFSETTO:-0700
TZNAME:PDT
DTSTART:20240310T100000
END:DAYLIGHT
BEGIN:STANDARD
TZOFFSETFROM:-0700
TZOFFSETTO:-0800
TZNAME:PST
DTSTART:20241103T090000
END:STANDARD
BEGIN:DAYLIGHT
TZOFFSETFROM:-0800
TZOFFSETTO:-0700
TZNAME:PDT
DTSTART:20250309T100000
END:DAYLIGHT
BEGIN:STANDARD
TZOFFSETFROM:-0700
TZOFFSETTO:-0800
TZNAME:PST
DTSTART:20251102T090000
END:STANDARD
BEGIN:DAYLIGHT
TZOFFSETFROM:-0800
TZOFFSETTO:-0700
TZNAME:PDT
DTSTART:20260308T100000
END:DAYLIGHT
BEGIN:STANDARD
TZOFFSETFROM:-0700
TZOFFSETTO:-0800
TZNAME:PST
DTSTART:20261101T090000
END:STANDARD
END:VTIMEZONE
BEGIN:VEVENT
DTSTART;TZID=America/Vancouver:20250102T183000
DTEND;TZID=America/Vancouver:20250102T210000
DTSTAMP:20260424T142109
CREATED:20241231T025907Z
LAST-MODIFIED:20241231T025907Z
UID:4215-1735842600-1735851600@www.crgenealogysociety.ca
SUMMARY:**Regular Meeting** 7-9 PM Details Click Here
DESCRIPTION:This will be a Hybrid Event. Doors open at 6:30 PM – Meeting at 7 \nAt the Maritime Heritage Centre by the Pier \nSpeaker: Rita Balboni \nNewspapers for Genealogy \nRita will present in person at the library for this Hybrid Zoom meeting. \nThe public is welcome! \nTo receive your personal invite click Here \nThe Doors will be open at 6:30 for Social Time before the meeting.
URL:https://www.crgenealogysociety.ca/events/regular-meeting-7-9-pm-details-click-here-2/
LOCATION:Maritime Heritage Centre\, 621 Island Hwy\, Campbell River\, British Columbia\, Canada
ORGANIZER;CN="Campbell River Genealogy Society":MAILTO:crgenealogy@shaw.ca
END:VEVENT
BEGIN:VEVENT
DTSTART;TZID=America/Vancouver:20250118T130000
DTEND;TZID=America/Vancouver:20250118T153000
DTSTAMP:20260424T142109
CREATED:20250106T141253Z
LAST-MODIFIED:20250106T141820Z
UID:4229-1737205200-1737214200@www.crgenealogysociety.ca
SUMMARY:DNA Class Series - Genetic Genealogy
DESCRIPTION:This is the first class in the 4 class series.\nWe will cover DNA Basics: Understanding the language\, the tests\, concepts\, and relationships.\nThe follow-up on consecutive Saturdays.\nJanuary 25 Looking at your Ancestry Results\nFebruary 1 Looking at your My Heritage Results\nFebruary 8 Creating research trees. Communicating with your matches. \nSeries details: \n\nMust Register to Attend. $5 per class (eTransfer or in Person)\nIn Person Only\nLimit of 8 registrants\n\nTo register contact Christol
URL:https://www.crgenealogysociety.ca/events/dna-class-series/
END:VEVENT
BEGIN:VEVENT
DTSTART;TZID=America/Vancouver:20250123T130000
DTEND;TZID=America/Vancouver:20250123T150000
DTSTAMP:20260424T142109
CREATED:20250106T135518Z
LAST-MODIFIED:20250106T135518Z
UID:4227-1737637200-1737644400@www.crgenealogysociety.ca
SUMMARY:Special Interests Group - General Genealogy
DESCRIPTION:This session: Citations\nTopic: Finding Records on Library and Archives Canada \nThis is a Hybrid Event: \nAttendees to the CRGS Library should arrive early to get their devices set up and logged in.\nRegister to get your Zoom Link  \nDonations of $5 for members in person or by eTransfer to crgstreasurer@gmail.com\nNon-members $5 fee by eTransfer please.
URL:https://www.crgenealogysociety.ca/events/special-interests-group-general-genealogy-2/
END:VEVENT
BEGIN:VEVENT
DTSTART;TZID=America/Vancouver:20250125T130000
DTEND;TZID=America/Vancouver:20250125T153000
DTSTAMP:20260424T142109
CREATED:20250106T143206Z
LAST-MODIFIED:20250106T143206Z
UID:4234-1737810000-1737819000@www.crgenealogysociety.ca
SUMMARY:DNA Class Series - Genetic Genealogy
DESCRIPTION:This is the second class in the 4 class series. \nIt is strongly recommended that you have attended the first class.  \nThis class will: \n\nReview any questions from the first session.\nLook at your Ancestry Results:\n\nWhat is there\nSorting and working with your match list\n\nThe  next classes:\nFebruary 1 Looking at your My Heritage Results\nFebruary 8 Creating research trees. Communicating with your matches. \nSeries details: \nMust Register to Attend. $5 per class (eTransfer or in Person)\nIn Person Only\nLimit of 8 registrants\n\nTo register contact Christol
URL:https://www.crgenealogysociety.ca/events/dna-class-series-genetic-genealogy/
END:VEVENT
END:VCALENDAR