BEGIN:VCALENDAR
VERSION:2.0
PRODID:-//Campbell River Genealogy Society - ECPv6.15.20//NONSGML v1.0//EN
CALSCALE:GREGORIAN
METHOD:PUBLISH
X-ORIGINAL-URL:https://www.crgenealogysociety.ca
X-WR-CALDESC:Events for Campbell River Genealogy Society
REFRESH-INTERVAL;VALUE=DURATION:PT1H
X-Robots-Tag:noindex
X-PUBLISHED-TTL:PT1H
BEGIN:VTIMEZONE
TZID:America/Vancouver
BEGIN:DAYLIGHT
TZOFFSETFROM:-0800
TZOFFSETTO:-0700
TZNAME:PDT
DTSTART:20230312T100000
END:DAYLIGHT
BEGIN:STANDARD
TZOFFSETFROM:-0700
TZOFFSETTO:-0800
TZNAME:PST
DTSTART:20231105T090000
END:STANDARD
BEGIN:DAYLIGHT
TZOFFSETFROM:-0800
TZOFFSETTO:-0700
TZNAME:PDT
DTSTART:20240310T100000
END:DAYLIGHT
BEGIN:STANDARD
TZOFFSETFROM:-0700
TZOFFSETTO:-0800
TZNAME:PST
DTSTART:20241103T090000
END:STANDARD
BEGIN:DAYLIGHT
TZOFFSETFROM:-0800
TZOFFSETTO:-0700
TZNAME:PDT
DTSTART:20250309T100000
END:DAYLIGHT
BEGIN:STANDARD
TZOFFSETFROM:-0700
TZOFFSETTO:-0800
TZNAME:PST
DTSTART:20251102T090000
END:STANDARD
END:VTIMEZONE
BEGIN:VEVENT
DTSTART;TZID=America/Vancouver:20240425T130000
DTEND;TZID=America/Vancouver:20240425T150000
DTSTAMP:20260425T044652
CREATED:20240420T205137Z
LAST-MODIFIED:20240420T205137Z
UID:4085-1714050000-1714057200@www.crgenealogysociety.ca
SUMMARY:Special Interests Group -Fourth Thursday
DESCRIPTION:This is a General Interest session: FamilySearch Labs \nIf there is a topic that you would like to cover\, please let me know. \nHybrid Event: In person at the CRGS Library or by Zoom\nZoom Registration Link\nSuggested Donations $5 per member in person or by eTransfer to crgstreasurer@gmail.com . Non-Members pay $5 fee per session.
URL:https://www.crgenealogysociety.ca/events/special-interests-group-fourth-thursday-3/
END:VEVENT
END:VCALENDAR