BEGIN:VCALENDAR
VERSION:2.0
PRODID:-//Campbell River Genealogy Society - ECPv6.15.20//NONSGML v1.0//EN
CALSCALE:GREGORIAN
METHOD:PUBLISH
X-WR-CALNAME:Campbell River Genealogy Society
X-ORIGINAL-URL:https://www.crgenealogysociety.ca
X-WR-CALDESC:Events for Campbell River Genealogy Society
REFRESH-INTERVAL;VALUE=DURATION:PT1H
X-Robots-Tag:noindex
X-PUBLISHED-TTL:PT1H
BEGIN:VTIMEZONE
TZID:America/Vancouver
BEGIN:DAYLIGHT
TZOFFSETFROM:-0800
TZOFFSETTO:-0700
TZNAME:PDT
DTSTART:20250309T100000
END:DAYLIGHT
BEGIN:STANDARD
TZOFFSETFROM:-0700
TZOFFSETTO:-0800
TZNAME:PST
DTSTART:20251102T090000
END:STANDARD
BEGIN:DAYLIGHT
TZOFFSETFROM:-0800
TZOFFSETTO:-0700
TZNAME:PDT
DTSTART:20260308T100000
END:DAYLIGHT
BEGIN:STANDARD
TZOFFSETFROM:-0700
TZOFFSETTO:-0800
TZNAME:PST
DTSTART:20261101T090000
END:STANDARD
BEGIN:DAYLIGHT
TZOFFSETFROM:-0800
TZOFFSETTO:-0700
TZNAME:PDT
DTSTART:20270314T100000
END:DAYLIGHT
BEGIN:STANDARD
TZOFFSETFROM:-0700
TZOFFSETTO:-0800
TZNAME:PST
DTSTART:20271107T090000
END:STANDARD
END:VTIMEZONE
BEGIN:VEVENT
DTSTART;TZID=America/Vancouver:20260425T110000
DTEND;TZID=America/Vancouver:20260425T140000
DTSTAMP:20260423T135233
CREATED:20260309T161803Z
LAST-MODIFIED:20260309T161816Z
UID:5608-1777114800-1777125600@www.crgenealogysociety.ca
SUMMARY:Library Open Saturday
DESCRIPTION:
URL:https://www.crgenealogysociety.ca/events/library-open-119/
END:VEVENT
BEGIN:VEVENT
DTSTART;TZID=America/Vancouver:20260427T180000
DTEND;TZID=America/Vancouver:20260427T193000
DTSTAMP:20260423T135233
CREATED:20260309T161205Z
LAST-MODIFIED:20260309T161205Z
UID:5604-1777312800-1777318200@www.crgenealogysociety.ca
SUMMARY:Board Meeting - Zoom
DESCRIPTION:
URL:https://www.crgenealogysociety.ca/events/board-meeting-zoom-3/
END:VEVENT
BEGIN:VEVENT
DTSTART;TZID=America/Vancouver:20260428T100000
DTEND;TZID=America/Vancouver:20260428T150000
DTSTAMP:20260423T135233
CREATED:20260309T160939Z
LAST-MODIFIED:20260309T160939Z
UID:5594-1777370400-1777388400@www.crgenealogysociety.ca
SUMMARY:Library Open
DESCRIPTION:
URL:https://www.crgenealogysociety.ca/events/library-open-114/
END:VEVENT
BEGIN:VEVENT
DTSTART;TZID=America/Vancouver:20260429T100000
DTEND;TZID=America/Vancouver:20260429T150000
DTSTAMP:20260423T135233
CREATED:20260309T161001Z
LAST-MODIFIED:20260309T161001Z
UID:5596-1777456800-1777474800@www.crgenealogysociety.ca
SUMMARY:Library Open
DESCRIPTION:
URL:https://www.crgenealogysociety.ca/events/library-open-115/
END:VEVENT
END:VCALENDAR